Workbook

Sheet (はじめにお読み下さい)申請書の使い方
B2: 【オンライン用】本申請書の使い方、申請の手順
B4: ●実施スケジュール
B5: ・実施期間：
B6: ①介護事業所等→令和8年9月11日(金)～11月30日(月)
B7: ②介護施設等→令和7年4月1日(火)～11月30日(月)
B8: ③障害福祉サービス事業所等→令和8年8月21日(金)～11月30日(月)
B9: ・申請期間：令和8年11月1日（日）～令和8年11月30日（月）
B10: ・交付決定：審査完了後、県から交付決定兼額の確定通知書を申請者へお送りいたします。
B11: ・補助金の支払い：審査完了後、県から支給いたします。（令和9年3月31日までに支給）
B13: ●申請スケジュール
B14: はじめに本シートのセルに入力することで、申請対象となる施設・事業所等に関する基本的な情報が各シートに自動的に転記されます。
B15: 【重要】本申請手順は、介護施設及び介護事業所及び障害福祉サービス事業所等に対する申請様式です。
... B25: ⑤完成したExcelファイル及び必要書類をオンラインフォームより申請
B31: 個票番号 | C31: 整理番号 | D31: 事業所・施設名 | E31: 郵便番号 | F31: 所在地 | G31: サービス種別 | H31: 電話番号 | I31: 担当部署 | J31: 要件1 | K31: 要件2 | L31: 要件3
B32: 1 | C32: {=INDIRECT("個票１!H7")} -> 0 | D32: {=INDIRECT("個票１!T7")} -> 0 | E32: {=INDIRECT("個票１!D9")} -> 0 | F32: {=INDIRECT("個票１!O9")} -> 0 | G32: {=INDIRECT("個票１!H10")} | H32: {=INDIRECT("個票１!W11")} -> 0 | I32: {=INDIRECT("個票１!AG11")} -> 0 | J32: {=INDIRECT("個票１!X15")} -> 0 | K32: {=INDIRECT("個票１!X16")} -> 0 | L32: {=INDIRECT("個票１!X17")} -> 0
B33: 2 | C33: {=INDIRECT("個票2!H7")} -> 0 | D33: {=INDIRECT("個票2!T7")} -> 0 | E33: {=INDIRECT("個票2!D9")} -> 0 | F33: {=INDIRECT("個票2!O9")} -> 0 | G33: {=INDIRECT("個票2!H10")} | H33: {=INDIRECT("個票2!W11")} -> 0 | I33: {=INDIRECT("個票2!AG11")} -> 0 | J33: {=INDIRECT("個票2!X15")} -> 0 | K33: {=INDIRECT("個票2!X16")} -> 0 | L33: {=INDIRECT("個票2!X17")} -> 0
B34: 3 | C34: {=INDIRECT("個票3!H7")} -> 0 | D34: {=INDIRECT("個票3!T7")} -> 0 | E34: {=INDIRECT("個票3!D9")} -> 0 | F34: {=INDIRECT("個票3!O9")} -> 0 | G34: {=INDIRECT("個票3!H10")} | H34: {=INDIRECT("個票3!W11")} -> 0 | I34: {=INDIRECT("個票3!AG11")} -> 0 | J34: {=INDIRECT("個票3!X15")} -> 0 | K34: {=INDIRECT("個票3!X16")} -> 0 | L34: {=INDIRECT("個票3!X17")} -> 0
B35: 4 | C35: {=INDIRECT("個票4!H7")} -> 0 | D35: {=INDIRECT("個票4!T7")} -> 0 | E35: {=INDIRECT("個票4!D9")} -> 0 | F35: {=INDIRECT("個票4!O9")} -> 0 | G35: {=INDIRECT("個票4!H10")} | H35: {=INDIRECT("個票4!W11")} -> 0 | I35: {=INDIRECT("個票4!AG11")} -> 0 | J35: {=INDIRECT("個票4!X15")} -> 0 | K35: {=INDIRECT("個票4!X16")} -> 0 | L35: {=INDIRECT("個票4!X17")} -> 0
B36: 5 | C36: {=INDIRECT("個票5!H7")} -> 0 | D36: {=INDIRECT("個票5!T7")} -> 0 | E36: {=INDIRECT("個票5!D9")} -> 0 | F36: {=INDIRECT("個票5!O9")} -> 0 | G36: {=INDIRECT("個票5!H10")} | H36: {=INDIRECT("個票5!W11")} -> 0 | I36: {=INDIRECT("個票5!AG11")} -> 0 | J36: {=INDIRECT("個票5!X15")} -> 0 | K36: {=INDIRECT("個票5!X16")} -> 0 | L36: {=INDIRECT("個票5!X17")} -> 0
B37: 6 | C37: {=INDIRECT("個票6!H7")} -> 0 | D37: {=INDIRECT("個票6!T7")} -> 0 | E37: {=INDIRECT("個票6!D9")} -> 0 | F37: {=INDIRECT("個票6!O9")} -> 0 | G37: {=INDIRECT("個票6!H10")} | H37: {=INDIRECT("個票6!W11")} -> 0 | I37: {=INDIRECT("個票6!AG11")} -> 0 | J37: {=INDIRECT("個票6!X15")} -> 0 | K37: {=INDIRECT("個票6!X16")} -> 0 | L37: {=INDIRECT("個票6!X17")} -> 0
B38: 7 | C38: {=INDIRECT("個票7!H7")} -> 0 | D38: {=INDIRECT("個票7!T7")} -> 0 | E38: {=INDIRECT("個票7!D9")} -> 0 | F38: {=INDIRECT("個票7!O9")} -> 0 | G38: {=INDIRECT("個票7!H10")} | H38: {=INDIRECT("個票7!W11")} -> 0 | I38: {=INDIRECT("個票7!AG11")} -> 0 | J38: {=INDIRECT("個票7!X15")} -> 0 | K38: {=INDIRECT("個票7!X16")} -> 0 | L38: {=INDIRECT("個票7!X17")} -> 0
B39: 8 | C39: {=INDIRECT("個票8!H7")} -> 0 | D39: {=INDIRECT("個票8!T7")} -> 0 | E39: {=INDIRECT("個票8!D9")} -> 0 | F39: {=INDIRECT("個票8!O9")} -> 0 | G39: {=INDIRECT("個票8!H10")} | H39: {=INDIRECT("個票8!W11")} -> 0 | I39: {=INDIRECT("個票8!AG11")} -> 0 | J39: {=INDIRECT("個票8!X15")} -> 0 | K39: {=INDIRECT("個票8!X16")} -> 0 | L39: {=INDIRECT("個票8!X17")} -> 0
B40: 9 | C40: {=INDIRECT("個票9!H7")} -> 0 | D40: {=INDIRECT("個票9!T7")} -> 0 | E40: {=INDIRECT("個票9!D9")} -> 0 | F40: {=INDIRECT("個票9!O9")} -> 0 | G40: {=INDIRECT("個票9!H10")} | H40: {=INDIRECT("個票9!W11")} -> 0 | I40: {=INDIRECT("個票9!AG11")} -> 0 | J40: {=INDIRECT("個票9!X15")} -> 0 | K40: {=INDIRECT("個票9!X16")} -> 0 | L40: {=INDIRECT("個票9!X17")} -> 0
B41: 10 | C41: {=INDIRECT("個票10!H7")} -> 0 | D41: {=INDIRECT("個票10!T7")} -> 0 | E41: {=INDIRECT("個票10!D9")} -> 0 | F41: {=INDIRECT("個票10!O9")} -> 0 | G41: {=INDIRECT("個票10!H10")} | H41: {=INDIRECT("個票10!W11")} -> 0 | I41: {=INDIRECT("個票10!AG11")} -> 0 | J41: {=INDIRECT("個票10!X15")} -> 0 | K41: {=INDIRECT("個票10!X16")} -> 0 | L41: {=INDIRECT("個票10!X17")} -> 0
B42: 11 | C42: {=INDIRECT("個票11!H7")} -> 0 | D42: {=INDIRECT("個票11!T7")} -> 0 | E42: {=INDIRECT("個票11!D9")} -> 0 | F42: {=INDIRECT("個票11!O9")} -> 0 | G42: {=INDIRECT("個票11!H10")} | H42: {=INDIRECT("個票11!W11")} -> 0 | I42: {=INDIRECT("個票11!AG11")} -> 0 | J42: {=INDIRECT("個票11!X15")} -> 0 | K42: {=INDIRECT("個票11!X16")} -> 0 | L42: {=INDIRECT("個票11!X17")} -> 0
B43: 12 | C43: {=INDIRECT("個票12!H7")} -> 0 | D43: {=INDIRECT("個票12!T7")} -> 0 | E43: {=INDIRECT("個票12!D9")} -> 0 | F43: {=INDIRECT("個票12!O9")} -> 0 | G43: {=INDIRECT("個票12!H10")} | H43: {=INDIRECT("個票12!W11")} -> 0 | I43: {=INDIRECT("個票12!AG11")} -> 0 | J43: {=INDIRECT("個票12!X15")} -> 0 | K43: {=INDIRECT("個票12!X16")} -> 0 | L43: {=INDIRECT("個票12!X17")} -> 0
B44: 13 | C44: {=INDIRECT("個票13!H7")} -> 0 | D44: {=INDIRECT("個票13!T7")} -> 0 | E44: {=INDIRECT("個票13!D9")} -> 0 | F44: {=INDIRECT("個票13!O9")} -> 0 | G44: {=INDIRECT("個票13!H10")} | H44: {=INDIRECT("個票13!W11")} -> 0 | I44: {=INDIRECT("個票13!AG11")} -> 0 | J44: {=INDIRECT("個票13!X15")} -> 0 | K44: {=INDIRECT("個票13!X16")} -> 0 | L44: {=INDIRECT("個票13!X17")} -> 0
B45: 14 | C45: {=INDIRECT("個票14!H7")} -> 0 | D45: {=INDIRECT("個票14!T7")} -> 0 | E45: {=INDIRECT("個票14!D9")} -> 0 | F45: {=INDIRECT("個票14!O9")} -> 0 | G45: {=INDIRECT("個票14!H10")} | H45: {=INDIRECT("個票14!W11")} -> 0 | I45: {=INDIRECT("個票14!AG11")} -> 0 | J45: {=INDIRECT("個票14!X15")} -> 0 | K45: {=INDIRECT("個票14!X16")} -> 0 | L45: {=INDIRECT("個票14!X17")} -> 0
B46: 15 | C46: {=INDIRECT("個票15!H7")} -> 0 | D46: {=INDIRECT("個票15!T7")} -> 0 | E46: {=INDIRECT("個票15!D9")} -> 0 | F46: {=INDIRECT("個票15!O9")} -> 0 | G46: {=INDIRECT("個票15!H10")} | H46: {=INDIRECT("個票15!W11")} -> 0 | I46: {=INDIRECT("個票15!AG11")} -> 0 | J46: {=INDIRECT("個票15!X15")} -> 0 | K46: {=INDIRECT("個票15!X16")} -> 0 | L46: {=INDIRECT("個票15!X17")} -> 0
B47: 16 | C47: {=INDIRECT("個票16!H7")} -> 0 | D47: {=INDIRECT("個票16!T7")} -> 0 | E47: {=INDIRECT("個票16!D9")} -> 0 | F47: {=INDIRECT("個票16!O9")} -> 0 | G47: {=INDIRECT("個票16!H10")} | H47: {=INDIRECT("個票16!W11")} -> 0 | I47: {=INDIRECT("個票16!AG11")} -> 0 | J47: {=INDIRECT("個票16!X15")} -> 0 | K47: {=INDIRECT("個票16!X16")} -> 0 | L47: {=INDIRECT("個票16!X17")} -> 0
B48: 17 | C48: {=INDIRECT("個票17!H7")} -> 0 | D48: {=INDIRECT("個票17!T7")} -> 0 | E48: {=INDIRECT("個票17!D9")} -> 0 | F48: {=INDIRECT("個票17!O9")} -> 0 | G48: {=INDIRECT("個票17!H10")} | H48: {=INDIRECT("個票17!W11")} -> 0 | I48: {=INDIRECT("個票17!AG11")} -> 0 | J48: {=INDIRECT("個票17!X15")} -> 0 | K48: {=INDIRECT("個票17!X16")} -> 0 | L48: {=INDIRECT("個票17!X17")} -> 0
B49: 18 | C49: {=INDIRECT("個票18!H7")} -> 0 | D49: {=INDIRECT("個票18!T7")} -> 0 | E49: {=INDIRECT("個票18!D9")} -> 0 | F49: {=INDIRECT("個票18!O9")} -> 0 | G49: {=INDIRECT("個票18!H10")} | H49: {=INDIRECT("個票18!W11")} -> 0 | I49: {=INDIRECT("個票18!AG11")} -> 0 | J49: {=INDIRECT("個票18!X15")} -> 0 | K49: {=INDIRECT("個票18!X16")} -> 0 | L49: {=INDIRECT("個票18!X17")} -> 0
B50: 19 | C50: {=INDIRECT("個票19!H7")} -> 0 | D50: {=INDIRECT("個票19!T7")} -> 0 | E50: {=INDIRECT("個票19!D9")} -> 0 | F50: {=INDIRECT("個票19!O9")} -> 0 | G50: {=INDIRECT("個票19!H10")} | H50: {=INDIRECT("個票19!W11")} -> 0 | I50: {=INDIRECT("個票19!AG11")} -> 0 | J50: {=INDIRECT("個票19!X15")} -> 0 | K50: {=INDIRECT("個票19!X16")} -> 0 | L50: {=INDIRECT("個票19!X17")} -> 0
B51: 20 | C51: {=INDIRECT("個票20!H7")} -> 0 | D51: {=INDIRECT("個票20!T7")} -> 0 | E51: {=INDIRECT("個票20!D9")} -> 0 | F51: {=INDIRECT("個票20!O9")} -> 0 | G51: {=INDIRECT("個票20!H10")} | H51: {=INDIRECT("個票20!W11")} -> 0 | I51: {=INDIRECT("個票20!AG11")} -> 0 | J51: {=INDIRECT("個票20!X15")} -> 0 | K51: {=INDIRECT("個票20!X16")} -> 0 | L51: {=INDIRECT("個票20!X17")} -> 0
B52: 21 | C52: {=INDIRECT("個票21!H7")} -> 0 | D52: {=INDIRECT("個票21!T7")} -> 0 | E52: {=INDIRECT("個票21!D9")} -> 0 | F52: {=INDIRECT("個票21!O9")} -> 0 | G52: {=INDIRECT("個票21!H10")} | H52: {=INDIRECT("個票21!W11")} -> 0 | I52: {=INDIRECT("個票21!AG11")} -> 0 | J52: {=INDIRECT("個票21!X15")} -> 0 | K52: {=INDIRECT("個票21!X16")} -> 0 | L52: {=INDIRECT("個票21!X17")} -> 0
B53: 22 | C53: {=INDIRECT("個票22!H7")} -> 0 | D53: {=INDIRECT("個票22!T7")} -> 0 | E53: {=INDIRECT("個票22!D9")} -> 0 | F53: {=INDIRECT("個票22!O9")} -> 0 | G53: {=INDIRECT("個票22!H10")} | H53: {=INDIRECT("個票22!W11")} -> 0 | I53: {=INDIRECT("個票22!AG11")} -> 0 | J53: {=INDIRECT("個票22!X15")} -> 0 | K53: {=INDIRECT("個票22!X16")} -> 0 | L53: {=INDIRECT("個票22!X17")} -> 0
B54: 23 | C54: {=INDIRECT("個票23!H7")} -> 0 | D54: {=INDIRECT("個票23!T7")} -> 0 | E54: {=INDIRECT("個票23!D9")} -> 0 | F54: {=INDIRECT("個票23!O9")} -> 0 | G54: {=INDIRECT("個票23!H10")} | H54: {=INDIRECT("個票23!W11")} -> 0 | I54: {=INDIRECT("個票23!AG11")} -> 0 | J54: {=INDIRECT("個票23!X15")} -> 0 | K54: {=INDIRECT("個票23!X16")} -> 0 | L54: {=INDIRECT("個票23!X17")} -> 0
B55: 24 | C55: {=INDIRECT("個票24!H7")} -> 0 | D55: {=INDIRECT("個票24!T7")} -> 0 | E55: {=INDIRECT("個票24!D9")} -> 0 | F55: {=INDIRECT("個票24!O9")} -> 0 | G55: {=INDIRECT("個票24!H10")} | H55: {=INDIRECT("個票24!W11")} -> 0 | I55: {=INDIRECT("個票24!AG11")} -> 0 | J55: {=INDIRECT("個票24!X15")} -> 0 | K55: {=INDIRECT("個票24!X16")} -> 0 | L55: {=INDIRECT("個票24!X17")} -> 0
B56: 25 | C56: {=INDIRECT("個票25!H7")} -> 0 | D56: {=INDIRECT("個票25!T7")} -> 0 | E56: {=INDIRECT("個票25!D9")} -> 0 | F56: {=INDIRECT("個票25!O9")} -> 0 | G56: {=INDIRECT("個票25!H10")} | H56: {=INDIRECT("個票25!W11")} -> 0 | I56: {=INDIRECT("個票25!AG11")} -> 0 | J56: {=INDIRECT("個票25!X15")} -> 0 | K56: {=INDIRECT("個票25!X16")} -> 0 | L56: {=INDIRECT("個票25!X17")} -> 0
B57: 26 | C57: {=INDIRECT("個票26!H7")} -> 0 | D57: {=INDIRECT("個票26!T7")} -> 0 | E57: {=INDIRECT("個票26!D9")} -> 0 | F57: {=INDIRECT("個票26!O9")} -> 0 | G57: {=INDIRECT("個票26!H10")} | H57: {=INDIRECT("個票26!W11")} -> 0 | I57: {=INDIRECT("個票26!AG11")} -> 0 | J57: {=INDIRECT("個票26!X15")} -> 0 | K57: {=INDIRECT("個票26!X16")} -> 0 | L57: {=INDIRECT("個票26!X17")} -> 0
...

Sheet 個票（記入例）
A1: （様式第３号）事業所・施設別個票
A3: 介護事業所等に対するサービス継続支援事業に関する交付申請書兼実績報告書 （事業所・施設単位）
A5: 施設概要
A7: 整理番号 | H7: 5900 | O7: 事業所名称 | T7: 広島県介護サービス
A8: 所在地 | D8: 郵便番号 | H8: 都道府県名 | O8: 住所
D9: 7300000 | H9: 広島県 | O9: 広島市中区基町1番地1
A10: 提供サービス | H10: =IFERROR(VLOOKUP(H7,内示額!A:B,2,FALSE),"") -> 居宅介護支援 | T10: 連絡先 | W10: 電話番号 | AG10: 担当部署名
W11: 0821234567 | AG11: 総務部
A13: 報告にあたっての確認事項
A15: 領収書、レシート等の根拠資料は事業所等において適切に保管している。 | X15: ✔
A16: 支出済の費用について、他の予算制度に基づく、負担又は補助と重複は生じていない。 | X16: ✔
A17: 「支出済額」の欄には、対象経費から消費税相当額を除いた実支出額を記載している。 | X17: ✔
A19: 支出済額
AD21: 内示額 | AI21: 申請額
AD22: =IFERROR(VLOOKUP(H7,内示額!A:C,3,FALSE),"") -> 186 | AG22: 千円 | AI22: =MIN(AD22,ROUNDDOWN((H29+H38)/1000,0)) -> 186 | AL22: 千円
A23: 【（１）介護サービス等を円滑に継続するための対応】
A24: 科目 | H24: 支出済額（円） （税抜き） | M24: 内訳（用途・品目・数量等）
A25: (ア)燃料費、有料道路通行料等の移動に伴い必要となる経費 | H25: 100000 | M25: ガソリン代（５台）令和８年９月１日～10月31日利用分
A26: (イ)ネッククーラー（ヒーター）等の猛暑・雪害対策用品の購入等経費
A27: (ウ)燃料費等の入居者・利用者の生活環境改善、職員の負担軽減・勤務環境改善に必要となる経費
A28: (エ)業務用スポットクーラー（ヒーター）等の居室や浴室等における温度管理、湿度管理に必要な設備・物品等の購入等経費 | H28: 150000 | M28: エアコン１台（単価140,000円） 遮光カーテン２枚（単価5,000円）
A29: 合計 | H29: =SUM(H25:L28) -> 250000
A31: 【（２）災害備蓄等への対応】
A32: 科目 | H32: 支出済額（円） （税抜き） | M32: 内訳（用途・品目・数量等）
A33: (ア)飲料水、食料品等の備蓄物資の購入等経費 | H33: 60000 | M33: 飲料水（２L×６本×50箱）（単価100円）
A34: (イ)ポータブル発電機、ポータブル電源・蓄電池等の購入等経費
A35: (ウ)衛生用品、医療用品等の購入等経費
A36: (エ)簡易浄水器、冷房機、暖房機、簡易トイレ、清潔保持のための用具等の購入等経費
A37: (オ)その他災害への備えとして必要と認められる経費
A38: 合計 | H38: =SUM(H33:L37) -> 60000
A41: （注）申請額は、内示額と支出済額を比較していずれか低い方の額が入力される。

Sheet 様式第1号(申請書兼報告書)
A1: （様式第１号）
A4: 介護事業所等に対するサービス継続支援事業費補助金交付申請書兼実績報告書
AC6: 令和 | AD6: 8 | AF6: 年 | AI6: 月 | AL6: 日
A8: 広島県知事 様
R10: （郵便番号）
R11: （所在地）
R12: （法人名）
R13: （代表者）
C14: 標記について、介護事業所等に関するサービス継続支援事業費補助金交付要綱第７条の規定により、次のとおり関係書類を添えて申請します。
B17: 交付申請
B18: 金 額 ： | J18: =SUM('様式第2号（申請額一覧）'!H5:H84)*1000 -> 0 | S18: 円
B25: （添付書類）
B26: ・事業所・施設別申請額一覧（様式第２号）
B27: ・介護事業所等に対するサービス継続支援事業に関する交付申請書兼実績報告書
B28: （事業所・施設単位）（様式第３号）
B29: ・その他知事の定める書類
T33: 【申請内容に関する問い合わせ先】
U34: ※日中連絡の取りやすい連絡先をご入力ください。
U35: 部署名
U36: 担当者氏名
U37: 連絡先 | Y37: 電話番号
Y38: e-mail

Sheet 様式第2号（申請額一覧）
A1: （様式第２号）事業所・施設別申請額一覧 | D1: ※本表は自動計算の為、入力は不要です。
A3: No. | B3: 事業所・施設名 | C3: 整理番号 | D3: サービス種別 | E3: 電話番号 | F3: 事業所・施設住所 | G3: 法人名 | H3: 申請額 （千円）
A5: =ROW()-4 -> 1 | B5: =IFERROR(INDIRECT("個票"&$A5&"！$t$7"),"") -> 0 | C5: =IFERROR(INDIRECT("個票"&$A5&"！$h$7"),"") -> 0 | D5: =IFERROR(INDIRECT("個票"&$A5&"！$H$10"),"") | E5: =IFERROR(INDIRECT("個票"&$A5&"！$w$11"),"") -> 0 | F5: =IFERROR(INDIRECT("個票"&$A5&"！$H$9")&INDIRECT("個票"&$A5&"！$O$9"),"") -> 広島県 | G5: =IF(H5>0,'様式第1号(申請書兼報告書)'!$W$12,"") | H5: =IFERROR(INDIRECT("個票"&$A5&"！$ai$22"),0) -> 0
A6: =ROW()-4 -> 2 | B6: =IFERROR(INDIRECT("個票"&$A6&"！$t$7"),"") -> 0 | C6: =IFERROR(INDIRECT("個票"&$A6&"！$h$7"),"") -> 0 | D6: =IFERROR(INDIRECT("個票"&$A6&"！$H$10"),"") | E6: =IFERROR(INDIRECT("個票"&$A6&"！$w$11"),"") -> 0 | F6: =IFERROR(INDIRECT("個票"&$A6&"！$H$9")&INDIRECT("個票"&$A6&"！$O$9"),"") -> 広島県 | G6: =IF(H6>0,'様式第1号(申請書兼報告書)'!$W$12,"") | H6: =IFERROR(INDIRECT("個票"&$A6&"！$ai$22"),0) -> 0
A7: =ROW()-4 -> 3 | B7: =IFERROR(INDIRECT("個票"&$A7&"！$t$7"),"") -> 0 | C7: =IFERROR(INDIRECT("個票"&$A7&"！$h$7"),"") -> 0 | D7: =IFERROR(INDIRECT("個票"&$A7&"！$H$10"),"") | E7: =IFERROR(INDIRECT("個票"&$A7&"！$w$11"),"") -> 0 | F7: =IFERROR(INDIRECT("個票"&$A7&"！$H$9")&INDIRECT("個票"&$A7&"！$O$9"),"") -> 広島県 | G7: =IF(H7>0,'様式第1号(申請書兼報告書)'!$W$12,"") | H7: =IFERROR(INDIRECT("個票"&$A7&"！$ai$22"),0) -> 0
A8: =ROW()-4 -> 4 | B8: =IFERROR(INDIRECT("個票"&$A8&"！$t$7"),"") -> 0 | C8: =IFERROR(INDIRECT("個票"&$A8&"！$h$7"),"") -> 0 | D8: =IFERROR(INDIRECT("個票"&$A8&"！$H$10"),"") | E8: =IFERROR(INDIRECT("個票"&$A8&"！$w$11"),"") -> 0 | F8: =IFERROR(INDIRECT("個票"&$A8&"！$H$9")&INDIRECT("個票"&$A8&"！$O$9"),"") -> 広島県 | G8: =IF(H8>0,'様式第1号(申請書兼報告書)'!$W$12,"") | H8: =IFERROR(INDIRECT("個票"&$A8&"！$ai$22"),0) -> 0
A9: =ROW()-4 -> 5 | B9: =IFERROR(INDIRECT("個票"&$A9&"！$t$7"),"") -> 0 | C9: =IFERROR(INDIRECT("個票"&$A9&"！$h$7"),"") -> 0 | D9: =IFERROR(INDIRECT("個票"&$A9&"！$H$10"),"") | E9: =IFERROR(INDIRECT("個票"&$A9&"！$w$11"),"") -> 0 | F9: =IFERROR(INDIRECT("個票"&$A9&"！$H$9")&INDIRECT("個票"&$A9&"！$O$9"),"") -> 広島県 | G9: =IF(H9>0,'様式第1号(申請書兼報告書)'!$W$12,"") | H9: =IFERROR(INDIRECT("個票"&$A9&"！$ai$22"),0) -> 0
A10: =ROW()-4 -> 6 | B10: =IFERROR(INDIRECT("個票"&$A10&"！$t$7"),"") -> 0 | C10: =IFERROR(INDIRECT("個票"&$A10&"！$h$7"),"") -> 0 | D10: =IFERROR(INDIRECT("個票"&$A10&"！$H$10"),"") | E10: =IFERROR(INDIRECT("個票"&$A10&"！$w$11"),"") -> 0 | F10: =IFERROR(INDIRECT("個票"&$A10&"！$H$9")&INDIRECT("個票"&$A10&"！$O$9"),"") -> 広島県 | G10: =IF(H10>0,'様式第1号(申請書兼報告書)'!$W$12,"") | H10: =IFERROR(INDIRECT("個票"&$A10&"！$ai$22"),0) -> 0
A11: =ROW()-4 -> 7 | B11: =IFERROR(INDIRECT("個票"&$A11&"！$t$7"),"") -> 0 | C11: =IFERROR(INDIRECT("個票"&$A11&"！$h$7"),"") -> 0 | D11: =IFERROR(INDIRECT("個票"&$A11&"！$H$10"),"") | E11: =IFERROR(INDIRECT("個票"&$A11&"！$w$11"),"") -> 0 | F11: =IFERROR(INDIRECT("個票"&$A11&"！$H$9")&INDIRECT("個票"&$A11&"！$O$9"),"") -> 広島県 | G11: =IF(H11>0,'様式第1号(申請書兼報告書)'!$W$12,"") | H11: =IFERROR(INDIRECT("個票"&$A11&"！$ai$22"),0) -> 0
A12: =ROW()-4 -> 8 | B12: =IFERROR(INDIRECT("個票"&$A12&"！$t$7"),"") -> 0 | C12: =IFERROR(INDIRECT("個票"&$A12&"！$h$7"),"") -> 0 | D12: =IFERROR(INDIRECT("個票"&$A12&"！$H$10"),"") | E12: =IFERROR(INDIRECT("個票"&$A12&"！$w$11"),"") -> 0 | F12: =IFERROR(INDIRECT("個票"&$A12&"！$H$9")&INDIRECT("個票"&$A12&"！$O$9"),"") -> 広島県 | G12: =IF(H12>0,'様式第1号(申請書兼報告書)'!$W$12,"") | H12: =IFERROR(INDIRECT("個票"&$A12&"！$ai$22"),0) -> 0
A13: =ROW()-4 -> 9 | B13: =IFERROR(INDIRECT("個票"&$A13&"！$t$7"),"") -> 0 | C13: =IFERROR(INDIRECT("個票"&$A13&"！$h$7"),"") -> 0 | D13: =IFERROR(INDIRECT("個票"&$A13&"！$H$10"),"") | E13: =IFERROR(INDIRECT("個票"&$A13&"！$w$11"),"") -> 0 | F13: =IFERROR(INDIRECT("個票"&$A13&"！$H$9")&INDIRECT("個票"&$A13&"！$O$9"),"") -> 広島県 | G13: =IF(H13>0,'様式第1号(申請書兼報告書)'!$W$12,"") | H13: =IFERROR(INDIRECT("個票"&$A13&"！$ai$22"),0) -> 0
A14: =ROW()-4 -> 10 | B14: =IFERROR(INDIRECT("個票"&$A14&"！$t$7"),"") -> 0 | C14: =IFERROR(INDIRECT("個票"&$A14&"！$h$7"),"") -> 0 | D14: =IFERROR(INDIRECT("個票"&$A14&"！$H$10"),"") | E14: =IFERROR(INDIRECT("個票"&$A14&"！$w$11"),"") -> 0 | F14: =IFERROR(INDIRECT("個票"&$A14&"！$H$9")&INDIRECT("個票"&$A14&"！$O$9"),"") -> 広島県 | G14: =IF(H14>0,'様式第1号(申請書兼報告書)'!$W$12,"") | H14: =IFERROR(INDIRECT("個票"&$A14&"！$ai$22"),0) -> 0
A15: =ROW()-4 -> 11 | B15: =IFERROR(INDIRECT("個票"&$A15&"！$t$7"),"") -> 0 | C15: =IFERROR(INDIRECT("個票"&$A15&"！$h$7"),"") -> 0 | D15: =IFERROR(INDIRECT("個票"&$A15&"！$H$10"),"") | E15: =IFERROR(INDIRECT("個票"&$A15&"！$w$11"),"") -> 0 | F15: =IFERROR(INDIRECT("個票"&$A15&"！$H$9")&INDIRECT("個票"&$A15&"！$O$9"),"") -> 広島県 | G15: =IF(H15>0,'様式第1号(申請書兼報告書)'!$W$12,"") | H15: =IFERROR(INDIRECT("個票"&$A15&"！$ai$22"),0) -> 0
A16: =ROW()-4 -> 12 | B16: =IFERROR(INDIRECT("個票"&$A16&"！$t$7"),"") -> 0 | C16: =IFERROR(INDIRECT("個票"&$A16&"！$h$7"),"") -> 0 | D16: =IFERROR(INDIRECT("個票"&$A16&"！$H$10"),"") | E16: =IFERROR(INDIRECT("個票"&$A16&"！$w$11"),"") -> 0 | F16: =IFERROR(INDIRECT("個票"&$A16&"！$H$9")&INDIRECT("個票"&$A16&"！$O$9"),"") -> 広島県 | G16: =IF(H16>0,'様式第1号(申請書兼報告書)'!$W$12,"") | H16: =IFERROR(INDIRECT("個票"&$A16&"！$ai$22"),0) -> 0
... A84: =ROW()-4 -> 80 | B84: =IFERROR(INDIRECT("個票"&$A84&"！$t$7"),"") -> 0 | C84: =IFERROR(INDIRECT("個票"&$A84&"！$h$7"),"") -> 0 | D84: =IFERROR(INDIRECT("個票"&$A84&"！$H$10"),"") | E84: =IFERROR(INDIRECT("個票"&$A84&"！$w$11"),"") -> 0 | F84: =IFERROR(INDIRECT("個票"&$A84&"！$H$9")&INDIRECT("個票"&$A84&"！$O$9"),"") -> 広島県 | G84: =IF(H84>0,'様式第1号(申請書兼報告書)'!$W$12,"") | H84: =IFERROR(INDIRECT("個票"&$A84&"！$ai$22"),0) -> 0
A85: （注）行が不足する場合には、「本申請書の使い方」に従って、必要に応じて行を追加すること。列の挿入は絶対に行わないこと。

Sheet 個票1
A1: （様式第３号）事業所・施設別個票
A3: 介護事業所等に対するサービス継続支援事業に関する交付申請書兼実績報告書 （事業所・施設単位）
A5: 施設概要
A7: 整理番号 | O7: 事業所名称
A8: 所在地 | D8: 郵便番号 | H8: 都道府県名 | O8: 住所
H9: 広島県
A10: 提供サービス | H10: =IFERROR(VLOOKUP(H7,内示額!A:B,2,FALSE),"") | T10: 連絡先 | W10: 電話番号 | AG10: 担当部署名
A13: 報告にあたっての確認事項
A15: 領収書、レシート等の根拠資料は事業所等において適切に保管している。
A16: 支出済の費用について、他の予算制度に基づく、負担又は補助と重複は生じていない。
A17: 「支出済額」の欄には、対象経費から消費税相当額を除いた実支出額を記載している。
A19: 支出済額
AD21: 内示額 | AI21: 申請額
AD22: =IFERROR(VLOOKUP(H7,内示額!A:C,3,FALSE),"") | AG22: 千円 | AI22: =MIN(AD22,ROUNDDOWN((H29+H38)/1000,0)) -> 0 | AL22: 千円
A23: 【（１）介護サービス等を円滑に継続するための対応】
A24: 科目 | H24: 支出済額（円） （税抜き） | M24: 内訳（用途・品目・数量等）
A25: (ア)燃料費、有料道路通行料等の移動に伴い必要となる経費
A26: (イ)ネッククーラー（ヒーター）等の猛暑・雪害対策用品の購入等経費
A27: (ウ)燃料費等の入居者・利用者の生活環境改善、職員の負担軽減・勤務環境改善に必要となる経費
A28: (エ)業務用スポットクーラー（ヒーター）等の居室や浴室等における温度管理、湿度管理に必要な設備・物品等の購入等経費
A29: 合計 | H29: =SUM(H25:L28) -> 0
A31: 【（２）災害備蓄等への対応】
A32: 科目 | H32: 支出済額（円） （税抜き） | M32: 内訳（用途・品目・数量等）
A33: (ア)飲料水、食料品等の備蓄物資の購入等経費
A34: (イ)ポータブル発電機、ポータブル電源・蓄電池等の購入等経費
A35: (ウ)衛生用品、医療用品等の購入等経費
A36: (エ)簡易浄水器、冷房機、暖房機、簡易トイレ、清潔保持のための用具等の購入等経費
A37: (オ)その他災害への備えとして必要と認められる経費
A38: 合計 | H38: =SUM(H33:L37) -> 0
A41: （注）申請額は、内示額と支出済額を比較していずれか低い方の額が入力される。

Sheet 個票2
A1: （様式第３号）事業所・施設別個票
A3: 介護事業所等に対するサービス継続支援事業に関する交付申請書兼実績報告書 （事業所・施設単位）
A5: 施設概要
A7: 整理番号 | O7: 事業所名称
A8: 所在地 | D8: 郵便番号 | H8: 都道府県名 | O8: 住所
H9: 広島県
A10: 提供サービス | H10: =IFERROR(VLOOKUP(H7,内示額!A:B,2,FALSE),"") | T10: 連絡先 | W10: 電話番号 | AG10: 担当部署名
A13: 報告にあたっての確認事項
A15: 領収書、レシート等の根拠資料は事業所等において適切に保管している。
A16: 支出済の費用について、他の予算制度に基づく、負担又は補助と重複は生じていない。
A17: 「支出済額」の欄には、対象経費から消費税相当額を除いた実支出額を記載している。
A19: 支出済額
AD21: 内示額 | AI21: 申請額
AD22: =IFERROR(VLOOKUP(H7,内示額!A:C,3,FALSE),"") | AG22: 千円 | AI22: =MIN(AD22,ROUNDDOWN((H29+H38)/1000,0)) -> 0 | AL22: 千円
A23: 【（１）介護サービス等を円滑に継続するための対応】
A24: 科目 | H24: 支出済額（円） （税抜き） | M24: 内訳（用途・品目・数量等）
A25: (ア)燃料費、有料道路通行料等の移動に伴い必要となる経費
A26: (イ)ネッククーラー（ヒーター）等の猛暑・雪害対策用品の購入等経費
A27: (ウ)燃料費等の入居者・利用者の生活環境改善、職員の負担軽減・勤務環境改善に必要となる経費
A28: (エ)業務用スポットクーラー（ヒーター）等の居室や浴室等における温度管理、湿度管理に必要な設備・物品等の購入等経費
A29: 合計 | H29: =SUM(H25:L28) -> 0
A31: 【（２）災害備蓄等への対応】
A32: 科目 | H32: 支出済額（円） （税抜き） | M32: 内訳（用途・品目・数量等）
A33: (ア)飲料水、食料品等の備蓄物資の購入等経費
A34: (イ)ポータブル発電機、ポータブル電源・蓄電池等の購入等経費
A35: (ウ)衛生用品、医療用品等の購入等経費
A36: (エ)簡易浄水器、冷房機、暖房機、簡易トイレ、清潔保持のための用具等の購入等経費
A37: (オ)その他災害への備えとして必要と認められる経費
A38: 合計 | H38: =SUM(H33:L37) -> 0
A41: （注）申請額は、内示額と支出済額を比較していずれか低い方の額が入力される。

Sheet 個票3
A1: （様式第３号）事業所・施設別個票
A3: 介護事業所等に対するサービス継続支援事業に関する交付申請書兼実績報告書 （事業所・施設単位）
A5: 施設概要
A7: 整理番号 | O7: 事業所名称
A8: 所在地 | D8: 郵便番号 | H8: 都道府県名 | O8: 住所
H9: 広島県
A10: 提供サービス | H10: =IFERROR(VLOOKUP(H7,内示額!A:B,2,FALSE),"") | T10: 連絡先 | W10: 電話番号 | AG10: 担当部署名
A13: 報告にあたっての確認事項
A15: 領収書、レシート等の根拠資料は事業所等において適切に保管している。
A16: 支出済の費用について、他の予算制度に基づく、負担又は補助と重複は生じていない。
A17: 「支出済額」の欄には、対象経費から消費税相当額を除いた実支出額を記載している。
A19: 支出済額
AD21: 内示額 | AI21: 申請額
AD22: =IFERROR(VLOOKUP(H7,内示額!A:C,3,FALSE),"") | AG22: 千円 | AI22: =MIN(AD22,ROUNDDOWN((H29+H38)/1000,0)) -> 0 | AL22: 千円
A23: 【（１）介護サービス等を円滑に継続するための対応】
A24: 科目 | H24: 支出済額（円） （税抜き） | M24: 内訳（用途・品目・数量等）
A25: (ア)燃料費、有料道路通行料等の移動に伴い必要となる経費
A26: (イ)ネッククーラー（ヒーター）等の猛暑・雪害対策用品の購入等経費
A27: (ウ)燃料費等の入居者・利用者の生活環境改善、職員の負担軽減・勤務環境改善に必要となる経費
A28: (エ)業務用スポットクーラー（ヒーター）等の居室や浴室等における温度管理、湿度管理に必要な設備・物品等の購入等経費
A29: 合計 | H29: =SUM(H25:L28) -> 0
A31: 【（２）災害備蓄等への対応】
A32: 科目 | H32: 支出済額（円） （税抜き） | M32: 内訳（用途・品目・数量等）
A33: (ア)飲料水、食料品等の備蓄物資の購入等経費
A34: (イ)ポータブル発電機、ポータブル電源・蓄電池等の購入等経費
A35: (ウ)衛生用品、医療用品等の購入等経費
A36: (エ)簡易浄水器、冷房機、暖房機、簡易トイレ、清潔保持のための用具等の購入等経費
A37: (オ)その他災害への備えとして必要と認められる経費
A38: 合計 | H38: =SUM(H33:L37) -> 0
A41: （注）申請額は、内示額と支出済額を比較していずれか低い方の額が入力される。

Sheet 個票4
A1: （様式第３号）事業所・施設別個票
A3: 介護事業所等に対するサービス継続支援事業に関する交付申請書兼実績報告書 （事業所・施設単位）
A5: 施設概要
A7: 整理番号 | O7: 事業所名称
A8: 所在地 | D8: 郵便番号 | H8: 都道府県名 | O8: 住所
H9: 広島県
A10: 提供サービス | H10: =IFERROR(VLOOKUP(H7,内示額!A:B,2,FALSE),"") | T10: 連絡先 | W10: 電話番号 | AG10: 担当部署名
A13: 報告にあたっての確認事項
A15: 領収書、レシート等の根拠資料は事業所等において適切に保管している。
A16: 支出済の費用について、他の予算制度に基づく、負担又は補助と重複は生じていない。
A17: 「支出済額」の欄には、対象経費から消費税相当額を除いた実支出額を記載している。
A19: 支出済額
AD21: 内示額 | AI21: 申請額
AD22: =IFERROR(VLOOKUP(H7,内示額!A:C,3,FALSE),"") | AG22: 千円 | AI22: =MIN(AD22,ROUNDDOWN((H29+H38)/1000,0)) -> 0 | AL22: 千円
A23: 【（１）介護サービス等を円滑に継続するための対応】
A24: 科目 | H24: 支出済額（円） （税抜き） | M24: 内訳（用途・品目・数量等）
A25: (ア)燃料費、有料道路通行料等の移動に伴い必要となる経費
A26: (イ)ネッククーラー（ヒーター）等の猛暑・雪害対策用品の購入等経費
A27: (ウ)燃料費等の入居者・利用者の生活環境改善、職員の負担軽減・勤務環境改善に必要となる経費
A28: (エ)業務用スポットクーラー（ヒーター）等の居室や浴室等における温度管理、湿度管理に必要な設備・物品等の購入等経費
A29: 合計 | H29: =SUM(H25:L28) -> 0
A31: 【（２）災害備蓄等への対応】
A32: 科目 | H32: 支出済額（円） （税抜き） | M32: 内訳（用途・品目・数量等）
A33: (ア)飲料水、食料品等の備蓄物資の購入等経費
A34: (イ)ポータブル発電機、ポータブル電源・蓄電池等の購入等経費
A35: (ウ)衛生用品、医療用品等の購入等経費
A36: (エ)簡易浄水器、冷房機、暖房機、簡易トイレ、清潔保持のための用具等の購入等経費
A37: (オ)その他災害への備えとして必要と認められる経費
A38: 合計 | H38: =SUM(H33:L37) -> 0
A41: （注）申請額は、内示額と支出済額を比較していずれか低い方の額が入力される。

Sheet 個票5
A1: （様式第３号）事業所・施設別個票
A3: 介護事業所等に対するサービス継続支援事業に関する交付申請書兼実績報告書 （事業所・施設単位）
A5: 施設概要
A7: 整理番号 | O7: 事業所名称
A8: 所在地 | D8: 郵便番号 | H8: 都道府県名 | O8: 住所
H9: 広島県
A10: 提供サービス | H10: =IFERROR(VLOOKUP(H7,内示額!A:B,2,FALSE),"") | T10: 連絡先 | W10: 電話番号 | AG10: 担当部署名
A13: 報告にあたっての確認事項
A15: 領収書、レシート等の根拠資料は事業所等において適切に保管している。
A16: 支出済の費用について、他の予算制度に基づく、負担又は補助と重複は生じていない。
A17: 「支出済額」の欄には、対象経費から消費税相当額を除いた実支出額を記載している。
A19: 支出済額
AD21: 内示額 | AI21: 申請額
AD22: =IFERROR(VLOOKUP(H7,内示額!A:C,3,FALSE),"") | AG22: 千円 | AI22: =MIN(AD22,ROUNDDOWN((H29+H38)/1000,0)) -> 0 | AL22: 千円
A23: 【（１）介護サービス等を円滑に継続するための対応】
A24: 科目 | H24: 支出済額（円） （税抜き） | M24: 内訳（用途・品目・数量等）
A25: (ア)燃料費、有料道路通行料等の移動に伴い必要となる経費
A26: (イ)ネッククーラー（ヒーター）等の猛暑・雪害対策用品の購入等経費
A27: (ウ)燃料費等の入居者・利用者の生活環境改善、職員の負担軽減・勤務環境改善に必要となる経費
A28: (エ)業務用スポットクーラー（ヒーター）等の居室や浴室等における温度管理、湿度管理に必要な設備・物品等の購入等経費
A29: 合計 | H29: =SUM(H25:L28) -> 0
A31: 【（２）災害備蓄等への対応】
A32: 科目 | H32: 支出済額（円） （税抜き） | M32: 内訳（用途・品目・数量等）
A33: (ア)飲料水、食料品等の備蓄物資の購入等経費
A34: (イ)ポータブル発電機、ポータブル電源・蓄電池等の購入等経費
A35: (ウ)衛生用品、医療用品等の購入等経費
A36: (エ)簡易浄水器、冷房機、暖房機、簡易トイレ、清潔保持のための用具等の購入等経費
A37: (オ)その他災害への備えとして必要と認められる経費
A38: 合計 | H38: =SUM(H33:L37) -> 0
A41: （注）申請額は、内示額と支出済額を比較していずれか低い方の額が入力される。

Sheet 個票6
A1: （様式第３号）事業所・施設別個票
A3: 介護事業所等に対するサービス継続支援事業に関する交付申請書兼実績報告書 （事業所・施設単位）
A5: 施設概要
A7: 整理番号 | O7: 事業所名称
A8: 所在地 | D8: 郵便番号 | H8: 都道府県名 | O8: 住所
H9: 広島県
A10: 提供サービス | H10: =IFERROR(VLOOKUP(H7,内示額!A:B,2,FALSE),"") | T10: 連絡先 | W10: 電話番号 | AG10: 担当部署名
A13: 報告にあたっての確認事項
A15: 領収書、レシート等の根拠資料は事業所等において適切に保管している。
A16: 支出済の費用について、他の予算制度に基づく、負担又は補助と重複は生じていない。
A17: 「支出済額」の欄には、対象経費から消費税相当額を除いた実支出額を記載している。
A19: 支出済額
AD21: 内示額 | AI21: 申請額
AD22: =IFERROR(VLOOKUP(H7,内示額!A:C,3,FALSE),"") | AG22: 千円 | AI22: =MIN(AD22,ROUNDDOWN((H29+H38)/1000,0)) -> 0 | AL22: 千円
A23: 【（１）介護サービス等を円滑に継続するための対応】
A24: 科目 | H24: 支出済額（円） （税抜き） | M24: 内訳（用途・品目・数量等）
A25: (ア)燃料費、有料道路通行料等の移動に伴い必要となる経費
A26: (イ)ネッククーラー（ヒーター）等の猛暑・雪害対策用品の購入等経費
A27: (ウ)燃料費等の入居者・利用者の生活環境改善、職員の負担軽減・勤務環境改善に必要となる経費
A28: (エ)業務用スポットクーラー（ヒーター）等の居室や浴室等における温度管理、湿度管理に必要な設備・物品等の購入等経費
A29: 合計 | H29: =SUM(H25:L28) -> 0
A31: 【（２）災害備蓄等への対応】
A32: 科目 | H32: 支出済額（円） （税抜き） | M32: 内訳（用途・品目・数量等）
A33: (ア)飲料水、食料品等の備蓄物資の購入等経費
A34: (イ)ポータブル発電機、ポータブル電源・蓄電池等の購入等経費
A35: (ウ)衛生用品、医療用品等の購入等経費
A36: (エ)簡易浄水器、冷房機、暖房機、簡易トイレ、清潔保持のための用具等の購入等経費
A37: (オ)その他災害への備えとして必要と認められる経費
A38: 合計 | H38: =SUM(H33:L37) -> 0
A41: （注）申請額は、内示額と支出済額を比較していずれか低い方の額が入力される。

Sheet 個票7
A1: （様式第３号）事業所・施設別個票
A3: 介護事業所等に対するサービス継続支援事業に関する交付申請書兼実績報告書 （事業所・施設単位）
A5: 施設概要
A7: 整理番号 | O7: 事業所名称
A8: 所在地 | D8: 郵便番号 | H8: 都道府県名 | O8: 住所
H9: 広島県
A10: 提供サービス | H10: =IFERROR(VLOOKUP(H7,内示額!A:B,2,FALSE),"") | T10: 連絡先 | W10: 電話番号 | AG10: 担当部署名
A13: 報告にあたっての確認事項
A15: 領収書、レシート等の根拠資料は事業所等において適切に保管している。
A16: 支出済の費用について、他の予算制度に基づく、負担又は補助と重複は生じていない。
A17: 「支出済額」の欄には、対象経費から消費税相当額を除いた実支出額を記載している。
A19: 支出済額
AD21: 内示額 | AI21: 申請額
AD22: =IFERROR(VLOOKUP(H7,内示額!A:C,3,FALSE),"") | AG22: 千円 | AI22: =MIN(AD22,ROUNDDOWN((H29+H38)/1000,0)) -> 0 | AL22: 千円
A23: 【（１）介護サービス等を円滑に継続するための対応】
A24: 科目 | H24: 支出済額（円） （税抜き） | M24: 内訳（用途・品目・数量等）
A25: (ア)燃料費、有料道路通行料等の移動に伴い必要となる経費
A26: (イ)ネッククーラー（ヒーター）等の猛暑・雪害対策用品の購入等経費
A27: (ウ)燃料費等の入居者・利用者の生活環境改善、職員の負担軽減・勤務環境改善に必要となる経費
A28: (エ)業務用スポットクーラー（ヒーター）等の居室や浴室等における温度管理、湿度管理に必要な設備・物品等の購入等経費
A29: 合計 | H29: =SUM(H25:L28) -> 0
A31: 【（２）災害備蓄等への対応】
A32: 科目 | H32: 支出済額（円） （税抜き） | M32: 内訳（用途・品目・数量等）
A33: (ア)飲料水、食料品等の備蓄物資の購入等経費
A34: (イ)ポータブル発電機、ポータブル電源・蓄電池等の購入等経費
A35: (ウ)衛生用品、医療用品等の購入等経費
A36: (エ)簡易浄水器、冷房機、暖房機、簡易トイレ、清潔保持のための用具等の購入等経費
A37: (オ)その他災害への備えとして必要と認められる経費
A38: 合計 | H38: =SUM(H33:L37) -> 0
A41: （注）申請額は、内示額と支出済額を比較していずれか低い方の額が入力される。

Sheet 個票8
A1: （様式第３号）事業所・施設別個票
A3: 介護事業所等に対するサービス継続支援事業に関する交付申請書兼実績報告書 （事業所・施設単位）
A5: 施設概要
A7: 整理番号 | O7: 事業所名称
A8: 所在地 | D8: 郵便番号 | H8: 都道府県名 | O8: 住所
H9: 広島県
A10: 提供サービス | H10: =IFERROR(VLOOKUP(H7,内示額!A:B,2,FALSE),"") | T10: 連絡先 | W10: 電話番号 | AG10: 担当部署名
A13: 報告にあたっての確認事項
A15: 領収書、レシート等の根拠資料は事業所等において適切に保管している。
A16: 支出済の費用について、他の予算制度に基づく、負担又は補助と重複は生じていない。
A17: 「支出済額」の欄には、対象経費から消費税相当額を除いた実支出額を記載している。
A19: 支出済額
AD21: 内示額 | AI21: 申請額
AD22: =IFERROR(VLOOKUP(H7,内示額!A:C,3,FALSE),"") | AG22: 千円 | AI22: =MIN(AD22,ROUNDDOWN((H29+H38)/1000,0)) -> 0 | AL22: 千円
A23: 【（１）介護サービス等を円滑に継続するための対応】
A24: 科目 | H24: 支出済額（円） （税抜き） | M24: 内訳（用途・品目・数量等）
A25: (ア)燃料費、有料道路通行料等の移動に伴い必要となる経費
A26: (イ)ネッククーラー（ヒーター）等の猛暑・雪害対策用品の購入等経費
A27: (ウ)燃料費等の入居者・利用者の生活環境改善、職員の負担軽減・勤務環境改善に必要となる経費
A28: (エ)業務用スポットクーラー（ヒーター）等の居室や浴室等における温度管理、湿度管理に必要な設備・物品等の購入等経費
A29: 合計 | H29: =SUM(H25:L28) -> 0
A31: 【（２）災害備蓄等への対応】
A32: 科目 | H32: 支出済額（円） （税抜き） | M32: 内訳（用途・品目・数量等）
A33: (ア)飲料水、食料品等の備蓄物資の購入等経費
A34: (イ)ポータブル発電機、ポータブル電源・蓄電池等の購入等経費
A35: (ウ)衛生用品、医療用品等の購入等経費
A36: (エ)簡易浄水器、冷房機、暖房機、簡易トイレ、清潔保持のための用具等の購入等経費
A37: (オ)その他災害への備えとして必要と認められる経費
A38: 合計 | H38: =SUM(H33:L37) -> 0
A41: （注）申請額は、内示額と支出済額を比較していずれか低い方の額が入力される。

Sheet 個票9
A1: （様式第３号）事業所・施設別個票
A3: 介護事業所等に対するサービス継続支援事業に関する交付申請書兼実績報告書 （事業所・施設単位）
A5: 施設概要
A7: 整理番号 | O7: 事業所名称
A8: 所在地 | D8: 郵便番号 | H8: 都道府県名 | O8: 住所
H9: 広島県
A10: 提供サービス | H10: =IFERROR(VLOOKUP(H7,内示額!A:B,2,FALSE),"") | T10: 連絡先 | W10: 電話番号 | AG10: 担当部署名
A13: 報告にあたっての確認事項
A15: 領収書、レシート等の根拠資料は事業所等において適切に保管している。
A16: 支出済の費用について、他の予算制度に基づく、負担又は補助と重複は生じていない。
A17: 「支出済額」の欄には、対象経費から消費税相当額を除いた実支出額を記載している。
A19: 支出済額
AD21: 内示額 | AI21: 申請額
AD22: =IFERROR(VLOOKUP(H7,内示額!A:C,3,FALSE),"") | AG22: 千円 | AI22: =MIN(AD22,ROUNDDOWN((H29+H38)/1000,0)) -> 0 | AL22: 千円
A23: 【（１）介護サービス等を円滑に継続するための対応】
A24: 科目 | H24: 支出済額（円） （税抜き） | M24: 内訳（用途・品目・数量等）
A25: (ア)燃料費、有料道路通行料等の移動に伴い必要となる経費
A26: (イ)ネッククーラー（ヒーター）等の猛暑・雪害対策用品の購入等経費
A27: (ウ)燃料費等の入居者・利用者の生活環境改善、職員の負担軽減・勤務環境改善に必要となる経費
A28: (エ)業務用スポットクーラー（ヒーター）等の居室や浴室等における温度管理、湿度管理に必要な設備・物品等の購入等経費
A29: 合計 | H29: =SUM(H25:L28) -> 0
A31: 【（２）災害備蓄等への対応】
A32: 科目 | H32: 支出済額（円） （税抜き） | M32: 内訳（用途・品目・数量等）
A33: (ア)飲料水、食料品等の備蓄物資の購入等経費
A34: (イ)ポータブル発電機、ポータブル電源・蓄電池等の購入等経費
A35: (ウ)衛生用品、医療用品等の購入等経費
A36: (エ)簡易浄水器、冷房機、暖房機、簡易トイレ、清潔保持のための用具等の購入等経費
A37: (オ)その他災害への備えとして必要と認められる経費
A38: 合計 | H38: =SUM(H33:L37) -> 0
A41: （注）申請額は、内示額と支出済額を比較していずれか低い方の額が入力される。

Sheet 個票10
A1: （様式第３号）事業所・施設別個票
A3: 介護事業所等に対するサービス継続支援事業に関する交付申請書兼実績報告書 （事業所・施設単位）
A5: 施設概要
A7: 整理番号 | O7: 事業所名称
A8: 所在地 | D8: 郵便番号 | H8: 都道府県名 | O8: 住所
H9: 広島県
A10: 提供サービス | H10: =IFERROR(VLOOKUP(H7,内示額!A:B,2,FALSE),"") | T10: 連絡先 | W10: 電話番号 | AG10: 担当部署名
A13: 報告にあたっての確認事項
A15: 領収書、レシート等の根拠資料は事業所等において適切に保管している。
A16: 支出済の費用について、他の予算制度に基づく、負担又は補助と重複は生じていない。
A17: 「支出済額」の欄には、対象経費から消費税相当額を除いた実支出額を記載している。
A19: 支出済額
AD21: 内示額 | AI21: 申請額
AD22: =IFERROR(VLOOKUP(H7,内示額!A:C,3,FALSE),"") | AG22: 千円 | AI22: =MIN(AD22,ROUNDDOWN((H29+H38)/1000,0)) -> 0 | AL22: 千円
A23: 【（１）介護サービス等を円滑に継続するための対応】
A24: 科目 | H24: 支出済額（円） （税抜き） | M24: 内訳（用途・品目・数量等）
A25: (ア)燃料費、有料道路通行料等の移動に伴い必要となる経費
A26: (イ)ネッククーラー（ヒーター）等の猛暑・雪害対策用品の購入等経費
A27: (ウ)燃料費等の入居者・利用者の生活環境改善、職員の負担軽減・勤務環境改善に必要となる経費
A28: (エ)業務用スポットクーラー（ヒーター）等の居室や浴室等における温度管理、湿度管理に必要な設備・物品等の購入等経費
A29: 合計 | H29: =SUM(H25:L28) -> 0
A31: 【（２）災害備蓄等への対応】
A32: 科目 | H32: 支出済額（円） （税抜き） | M32: 内訳（用途・品目・数量等）
A33: (ア)飲料水、食料品等の備蓄物資の購入等経費
A34: (イ)ポータブル発電機、ポータブル電源・蓄電池等の購入等経費
A35: (ウ)衛生用品、医療用品等の購入等経費
A36: (エ)簡易浄水器、冷房機、暖房機、簡易トイレ、清潔保持のための用具等の購入等経費
A37: (オ)その他災害への備えとして必要と認められる経費
A38: 合計 | H38: =SUM(H33:L37) -> 0
A41: （注）申請額は、内示額と支出済額を比較していずれか低い方の額が入力される。

Sheet 個票11
A1: （様式第３号）事業所・施設別個票
A3: 介護事業所等に対するサービス継続支援事業に関する交付申請書兼実績報告書 （事業所・施設単位）
A5: 施設概要
A7: 整理番号 | O7: 事業所名称
A8: 所在地 | D8: 郵便番号 | H8: 都道府県名 | O8: 住所
H9: 広島県
A10: 提供サービス | H10: =IFERROR(VLOOKUP(H7,内示額!A:B,2,FALSE),"") | T10: 連絡先 | W10: 電話番号 | AG10: 担当部署名
A13: 報告にあたっての確認事項
A15: 領収書、レシート等の根拠資料は事業所等において適切に保管している。
A16: 支出済の費用について、他の予算制度に基づく、負担又は補助と重複は生じていない。
A17: 「支出済額」の欄には、対象経費から消費税相当額を除いた実支出額を記載している。
A19: 支出済額
AD21: 内示額 | AI21: 申請額
AD22: =IFERROR(VLOOKUP(H7,内示額!A:C,3,FALSE),"") | AG22: 千円 | AI22: =MIN(AD22,ROUNDDOWN((H29+H38)/1000,0)) -> 0 | AL22: 千円
A23: 【（１）介護サービス等を円滑に継続するための対応】
A24: 科目 | H24: 支出済額（円） （税抜き） | M24: 内訳（用途・品目・数量等）
A25: (ア)燃料費、有料道路通行料等の移動に伴い必要となる経費
A26: (イ)ネッククーラー（ヒーター）等の猛暑・雪害対策用品の購入等経費
A27: (ウ)燃料費等の入居者・利用者の生活環境改善、職員の負担軽減・勤務環境改善に必要となる経費
A28: (エ)業務用スポットクーラー（ヒーター）等の居室や浴室等における温度管理、湿度管理に必要な設備・物品等の購入等経費
A29: 合計 | H29: =SUM(H25:L28) -> 0
A31: 【（２）災害備蓄等への対応】
A32: 科目 | H32: 支出済額（円） （税抜き） | M32: 内訳（用途・品目・数量等）
A33: (ア)飲料水、食料品等の備蓄物資の購入等経費
A34: (イ)ポータブル発電機、ポータブル電源・蓄電池等の購入等経費
A35: (ウ)衛生用品、医療用品等の購入等経費
A36: (エ)簡易浄水器、冷房機、暖房機、簡易トイレ、清潔保持のための用具等の購入等経費
A37: (オ)その他災害への備えとして必要と認められる経費
A38: 合計 | H38: =SUM(H33:L37) -> 0
A41: （注）申請額は、内示額と支出済額を比較していずれか低い方の額が入力される。

Sheet 個票12
A1: （様式第３号）事業所・施設別個票
A3: 介護事業所等に対するサービス継続支援事業に関する交付申請書兼実績報告書 （事業所・施設単位）
A5: 施設概要
A7: 整理番号 | O7: 事業所名称
A8: 所在地 | D8: 郵便番号 | H8: 都道府県名 | O8: 住所
H9: 広島県
A10: 提供サービス | H10: =IFERROR(VLOOKUP(H7,内示額!A:B,2,FALSE),"") | T10: 連絡先 | W10: 電話番号 | AG10: 担当部署名
A13: 報告にあたっての確認事項
A15: 領収書、レシート等の根拠資料は事業所等において適切に保管している。
A16: 支出済の費用について、他の予算制度に基づく、負担又は補助と重複は生じていない。
A17: 「支出済額」の欄には、対象経費から消費税相当額を除いた実支出額を記載している。
A19: 支出済額
AD21: 内示額 | AI21: 申請額
AD22: =IFERROR(VLOOKUP(H7,内示額!A:C,3,FALSE),"") | AG22: 千円 | AI22: =MIN(AD22,ROUNDDOWN((H29+H38)/1000,0)) -> 0 | AL22: 千円
A23: 【（１）介護サービス等を円滑に継続するための対応】
A24: 科目 | H24: 支出済額（円） （税抜き） | M24: 内訳（用途・品目・数量等）
A25: (ア)燃料費、有料道路通行料等の移動に伴い必要となる経費
A26: (イ)ネッククーラー（ヒーター）等の猛暑・雪害対策用品の購入等経費
A27: (ウ)燃料費等の入居者・利用者の生活環境改善、職員の負担軽減・勤務環境改善に必要となる経費
A28: (エ)業務用スポットクーラー（ヒーター）等の居室や浴室等における温度管理、湿度管理に必要な設備・物品等の購入等経費
A29: 合計 | H29: =SUM(H25:L28) -> 0
A31: 【（２）災害備蓄等への対応】
A32: 科目 | H32: 支出済額（円） （税抜き） | M32: 内訳（用途・品目・数量等）
A33: (ア)飲料水、食料品等の備蓄物資の購入等経費
A34: (イ)ポータブル発電機、ポータブル電源・蓄電池等の購入等経費
A35: (ウ)衛生用品、医療用品等の購入等経費
A36: (エ)簡易浄水器、冷房機、暖房機、簡易トイレ、清潔保持のための用具等の購入等経費
A37: (オ)その他災害への備えとして必要と認められる経費
A38: 合計 | H38: =SUM(H33:L37) -> 0
A41: （注）申請額は、内示額と支出済額を比較していずれか低い方の額が入力される。

Sheet 個票13
A1: （様式第３号）事業所・施設別個票
A3: 介護事業所等に対するサービス継続支援事業に関する交付申請書兼実績報告書 （事業所・施設単位）
A5: 施設概要
A7: 整理番号 | O7: 事業所名称
A8: 所在地 | D8: 郵便番号 | H8: 都道府県名 | O8: 住所
H9: 広島県
A10: 提供サービス | H10: =IFERROR(VLOOKUP(H7,内示額!A:B,2,FALSE),"") | T10: 連絡先 | W10: 電話番号 | AG10: 担当部署名
A13: 報告にあたっての確認事項
A15: 領収書、レシート等の根拠資料は事業所等において適切に保管している。
A16: 支出済の費用について、他の予算制度に基づく、負担又は補助と重複は生じていない。
A17: 「支出済額」の欄には、対象経費から消費税相当額を除いた実支出額を記載している。
A19: 支出済額
AD21: 内示額 | AI21: 申請額
AD22: =IFERROR(VLOOKUP(H7,内示額!A:C,3,FALSE),"") | AG22: 千円 | AI22: =MIN(AD22,ROUNDDOWN((H29+H38)/1000,0)) -> 0 | AL22: 千円
A23: 【（１）介護サービス等を円滑に継続するための対応】
A24: 科目 | H24: 支出済額（円） （税抜き） | M24: 内訳（用途・品目・数量等）
A25: (ア)燃料費、有料道路通行料等の移動に伴い必要となる経費
A26: (イ)ネッククーラー（ヒーター）等の猛暑・雪害対策用品の購入等経費
A27: (ウ)燃料費等の入居者・利用者の生活環境改善、職員の負担軽減・勤務環境改善に必要となる経費
A28: (エ)業務用スポットクーラー（ヒーター）等の居室や浴室等における温度管理、湿度管理に必要な設備・物品等の購入等経費
A29: 合計 | H29: =SUM(H25:L28) -> 0
A31: 【（２）災害備蓄等への対応】
A32: 科目 | H32: 支出済額（円） （税抜き） | M32: 内訳（用途・品目・数量等）
A33: (ア)飲料水、食料品等の備蓄物資の購入等経費
A34: (イ)ポータブル発電機、ポータブル電源・蓄電池等の購入等経費
A35: (ウ)衛生用品、医療用品等の購入等経費
A36: (エ)簡易浄水器、冷房機、暖房機、簡易トイレ、清潔保持のための用具等の購入等経費
A37: (オ)その他災害への備えとして必要と認められる経費
A38: 合計 | H38: =SUM(H33:L37) -> 0
A41: （注）申請額は、内示額と支出済額を比較していずれか低い方の額が入力される。

Sheet 個票14
A1: （様式第３号）事業所・施設別個票
A3: 介護事業所等に対するサービス継続支援事業に関する交付申請書兼実績報告書 （事業所・施設単位）
A5: 施設概要
A7: 整理番号 | O7: 事業所名称
A8: 所在地 | D8: 郵便番号 | H8: 都道府県名 | O8: 住所
H9: 広島県
A10: 提供サービス | H10: =IFERROR(VLOOKUP(H7,内示額!A:B,2,FALSE),"") | T10: 連絡先 | W10: 電話番号 | AG10: 担当部署名
A13: 報告にあたっての確認事項
A15: 領収書、レシート等の根拠資料は事業所等において適切に保管している。
A16: 支出済の費用について、他の予算制度に基づく、負担又は補助と重複は生じていない。
A17: 「支出済額」の欄には、対象経費から消費税相当額を除いた実支出額を記載している。
A19: 支出済額
AD21: 内示額 | AI21: 申請額
AD22: =IFERROR(VLOOKUP(H7,内示額!A:C,3,FALSE),"") | AG22: 千円 | AI22: =MIN(AD22,ROUNDDOWN((H29+H38)/1000,0)) -> 0 | AL22: 千円
A23: 【（１）介護サービス等を円滑に継続するための対応】
A24: 科目 | H24: 支出済額（円） （税抜き） | M24: 内訳（用途・品目・数量等）
A25: (ア)燃料費、有料道路通行料等の移動に伴い必要となる経費
A26: (イ)ネッククーラー（ヒーター）等の猛暑・雪害対策用品の購入等経費
A27: (ウ)燃料費等の入居者・利用者の生活環境改善、職員の負担軽減・勤務環境改善に必要となる経費
A28: (エ)業務用スポットクーラー（ヒーター）等の居室や浴室等における温度管理、湿度管理に必要な設備・物品等の購入等経費
A29: 合計 | H29: =SUM(H25:L28) -> 0
A31: 【（２）災害備蓄等への対応】
A32: 科目 | H32: 支出済額（円） （税抜き） | M32: 内訳（用途・品目・数量等）
A33: (ア)飲料水、食料品等の備蓄物資の購入等経費
A34: (イ)ポータブル発電機、ポータブル電源・蓄電池等の購入等経費
A35: (ウ)衛生用品、医療用品等の購入等経費
A36: (エ)簡易浄水器、冷房機、暖房機、簡易トイレ、清潔保持のための用具等の購入等経費
A37: (オ)その他災害への備えとして必要と認められる経費
A38: 合計 | H38: =SUM(H33:L37) -> 0
A41: （注）申請額は、内示額と支出済額を比較していずれか低い方の額が入力される。

Sheet 個票15
A1: （様式第３号）事業所・施設別個票
A3: 介護事業所等に対するサービス継続支援事業に関する交付申請書兼実績報告書 （事業所・施設単位）
A5: 施設概要
A7: 整理番号 | O7: 事業所名称
A8: 所在地 | D8: 郵便番号 | H8: 都道府県名 | O8: 住所
H9: 広島県
A10: 提供サービス | H10: =IFERROR(VLOOKUP(H7,内示額!A:B,2,FALSE),"") | T10: 連絡先 | W10: 電話番号 | AG10: 担当部署名
A13: 報告にあたっての確認事項
A15: 領収書、レシート等の根拠資料は事業所等において適切に保管している。
A16: 支出済の費用について、他の予算制度に基づく、負担又は補助と重複は生じていない。
A17: 「支出済額」の欄には、対象経費から消費税相当額を除いた実支出額を記載している。
A19: 支出済額
AD21: 内示額 | AI21: 申請額
AD22: =IFERROR(VLOOKUP(H7,内示額!A:C,3,FALSE),"") | AG22: 千円 | AI22: =MIN(AD22,ROUNDDOWN((H29+H38)/1000,0)) -> 0 | AL22: 千円
A23: 【（１）介護サービス等を円滑に継続するための対応】
A24: 科目 | H24: 支出済額（円） （税抜き） | M24: 内訳（用途・品目・数量等）
A25: (ア)燃料費、有料道路通行料等の移動に伴い必要となる経費
A26: (イ)ネッククーラー（ヒーター）等の猛暑・雪害対策用品の購入等経費
A27: (ウ)燃料費等の入居者・利用者の生活環境改善、職員の負担軽減・勤務環境改善に必要となる経費
A28: (エ)業務用スポットクーラー（ヒーター）等の居室や浴室等における温度管理、湿度管理に必要な設備・物品等の購入等経費
A29: 合計 | H29: =SUM(H25:L28) -> 0
A31: 【（２）災害備蓄等への対応】
A32: 科目 | H32: 支出済額（円） （税抜き） | M32: 内訳（用途・品目・数量等）
A33: (ア)飲料水、食料品等の備蓄物資の購入等経費
A34: (イ)ポータブル発電機、ポータブル電源・蓄電池等の購入等経費
A35: (ウ)衛生用品、医療用品等の購入等経費
A36: (エ)簡易浄水器、冷房機、暖房機、簡易トイレ、清潔保持のための用具等の購入等経費
A37: (オ)その他災害への備えとして必要と認められる経費
A38: 合計 | H38: =SUM(H33:L37) -> 0
A41: （注）申請額は、内示額と支出済額を比較していずれか低い方の額が入力される。

Sheet 個票16
A1: （様式第３号）事業所・施設別個票
A3: 介護事業所等に対するサービス継続支援事業に関する交付申請書兼実績報告書 （事業所・施設単位）
A5: 施設概要
A7: 整理番号 | O7: 事業所名称
A8: 所在地 | D8: 郵便番号 | H8: 都道府県名 | O8: 住所
H9: 広島県
A10: 提供サービス | H10: =IFERROR(VLOOKUP(H7,内示額!A:B,2,FALSE),"") | T10: 連絡先 | W10: 電話番号 | AG10: 担当部署名
A13: 報告にあたっての確認事項
A15: 領収書、レシート等の根拠資料は事業所等において適切に保管している。
A16: 支出済の費用について、他の予算制度に基づく、負担又は補助と重複は生じていない。
A17: 「支出済額」の欄には、対象経費から消費税相当額を除いた実支出額を記載している。
A19: 支出済額
AD21: 内示額 | AI21: 申請額
AD22: =IFERROR(VLOOKUP(H7,内示額!A:C,3,FALSE),"") | AG22: 千円 | AI22: =MIN(AD22,ROUNDDOWN((H29+H38)/1000,0)) -> 0 | AL22: 千円
A23: 【（１）介護サービス等を円滑に継続するための対応】
A24: 科目 | H24: 支出済額（円） （税抜き） | M24: 内訳（用途・品目・数量等）
A25: (ア)燃料費、有料道路通行料等の移動に伴い必要となる経費
A26: (イ)ネッククーラー（ヒーター）等の猛暑・雪害対策用品の購入等経費
A27: (ウ)燃料費等の入居者・利用者の生活環境改善、職員の負担軽減・勤務環境改善に必要となる経費
A28: (エ)業務用スポットクーラー（ヒーター）等の居室や浴室等における温度管理、湿度管理に必要な設備・物品等の購入等経費
A29: 合計 | H29: =SUM(H25:L28) -> 0
A31: 【（２）災害備蓄等への対応】
A32: 科目 | H32: 支出済額（円） （税抜き） | M32: 内訳（用途・品目・数量等）
A33: (ア)飲料水、食料品等の備蓄物資の購入等経費
A34: (イ)ポータブル発電機、ポータブル電源・蓄電池等の購入等経費
A35: (ウ)衛生用品、医療用品等の購入等経費
A36: (エ)簡易浄水器、冷房機、暖房機、簡易トイレ、清潔保持のための用具等の購入等経費
A37: (オ)その他災害への備えとして必要と認められる経費
A38: 合計 | H38: =SUM(H33:L37) -> 0
A41: （注）申請額は、内示額と支出済額を比較していずれか低い方の額が入力される。

Sheet 個票17
A1: （様式第３号）事業所・施設別個票
A3: 介護事業所等に対するサービス継続支援事業に関する交付申請書兼実績報告書 （事業所・施設単位）
A5: 施設概要
A7: 整理番号 | O7: 事業所名称
A8: 所在地 | D8: 郵便番号 | H8: 都道府県名 | O8: 住所
H9: 広島県
A10: 提供サービス | H10: =IFERROR(VLOOKUP(H7,内示額!A:B,2,FALSE),"") | T10: 連絡先 | W10: 電話番号 | AG10: 担当部署名
A13: 報告にあたっての確認事項
A15: 領収書、レシート等の根拠資料は事業所等において適切に保管している。
A16: 支出済の費用について、他の予算制度に基づく、負担又は補助と重複は生じていない。
A17: 「支出済額」の欄には、対象経費から消費税相当額を除いた実支出額を記載している。
A19: 支出済額
AD21: 内示額 | AI21: 申請額
AD22: =IFERROR(VLOOKUP(H7,内示額!A:C,3,FALSE),"") | AG22: 千円 | AI22: =MIN(AD22,ROUNDDOWN((H29+H38)/1000,0)) -> 0 | AL22: 千円
A23: 【（１）介護サービス等を円滑に継続するための対応】
A24: 科目 | H24: 支出済額（円） （税抜き） | M24: 内訳（用途・品目・数量等）
A25: (ア)燃料費、有料道路通行料等の移動に伴い必要となる経費
A26: (イ)ネッククーラー（ヒーター）等の猛暑・雪害対策用品の購入等経費
A27: (ウ)燃料費等の入居者・利用者の生活環境改善、職員の負担軽減・勤務環境改善に必要となる経費
A28: (エ)業務用スポットクーラー（ヒーター）等の居室や浴室等における温度管理、湿度管理に必要な設備・物品等の購入等経費
A29: 合計 | H29: =SUM(H25:L28) -> 0
A31: 【（２）災害備蓄等への対応】
A32: 科目 | H32: 支出済額（円） （税抜き） | M32: 内訳（用途・品目・数量等）
A33: (ア)飲料水、食料品等の備蓄物資の購入等経費
A34: (イ)ポータブル発電機、ポータブル電源・蓄電池等の購入等経費
A35: (ウ)衛生用品、医療用品等の購入等経費
A36: (エ)簡易浄水器、冷房機、暖房機、簡易トイレ、清潔保持のための用具等の購入等経費
A37: (オ)その他災害への備えとして必要と認められる経費
A38: 合計 | H38: =SUM(H33:L37) -> 0
A41: （注）申請額は、内示額と支出済額を比較していずれか低い方の額が入力される。

Sheet 個票18
A1: （様式第３号）事業所・施設別個票
A3: 介護事業所等に対するサービス継続支援事業に関する交付申請書兼実績報告書 （事業所・施設単位）
A5: 施設概要
A7: 整理番号 | O7: 事業所名称
A8: 所在地 | D8: 郵便番号 | H8: 都道府県名 | O8: 住所
H9: 広島県
A10: 提供サービス | H10: =IFERROR(VLOOKUP(H7,内示額!A:B,2,FALSE),"") | T10: 連絡先 | W10: 電話番号 | AG10: 担当部署名
A13: 報告にあたっての確認事項
A15: 領収書、レシート等の根拠資料は事業所等において適切に保管している。
A16: 支出済の費用について、他の予算制度に基づく、負担又は補助と重複は生じていない。
A17: 「支出済額」の欄には、対象経費から消費税相当額を除いた実支出額を記載している。
A19: 支出済額
AD21: 内示額 | AI21: 申請額
AD22: =IFERROR(VLOOKUP(H7,内示額!A:C,3,FALSE),"") | AG22: 千円 | AI22: =MIN(AD22,ROUNDDOWN((H29+H38)/1000,0)) -> 0 | AL22: 千円
A23: 【（１）介護サービス等を円滑に継続するための対応】
A24: 科目 | H24: 支出済額（円） （税抜き） | M24: 内訳（用途・品目・数量等）
A25: (ア)燃料費、有料道路通行料等の移動に伴い必要となる経費
A26: (イ)ネッククーラー（ヒーター）等の猛暑・雪害対策用品の購入等経費
A27: (ウ)燃料費等の入居者・利用者の生活環境改善、職員の負担軽減・勤務環境改善に必要となる経費
A28: (エ)業務用スポットクーラー（ヒーター）等の居室や浴室等における温度管理、湿度管理に必要な設備・物品等の購入等経費
A29: 合計 | H29: =SUM(H25:L28) -> 0
A31: 【（２）災害備蓄等への対応】
A32: 科目 | H32: 支出済額（円） （税抜き） | M32: 内訳（用途・品目・数量等）
A33: (ア)飲料水、食料品等の備蓄物資の購入等経費
A34: (イ)ポータブル発電機、ポータブル電源・蓄電池等の購入等経費
A35: (ウ)衛生用品、医療用品等の購入等経費
A36: (エ)簡易浄水器、冷房機、暖房機、簡易トイレ、清潔保持のための用具等の購入等経費
A37: (オ)その他災害への備えとして必要と認められる経費
A38: 合計 | H38: =SUM(H33:L37) -> 0
A41: （注）申請額は、内示額と支出済額を比較していずれか低い方の額が入力される。

Sheet 個票19
A1: （様式第３号）事業所・施設別個票
A3: 介護事業所等に対するサービス継続支援事業に関する交付申請書兼実績報告書 （事業所・施設単位）
A5: 施設概要
A7: 整理番号 | O7: 事業所名称
A8: 所在地 | D8: 郵便番号 | H8: 都道府県名 | O8: 住所
H9: 広島県
A10: 提供サービス | H10: =IFERROR(VLOOKUP(H7,内示額!A:B,2,FALSE),"") | T10: 連絡先 | W10: 電話番号 | AG10: 担当部署名
A13: 報告にあたっての確認事項
A15: 領収書、レシート等の根拠資料は事業所等において適切に保管している。
A16: 支出済の費用について、他の予算制度に基づく、負担又は補助と重複は生じていない。
A17: 「支出済額」の欄には、対象経費から消費税相当額を除いた実支出額を記載している。
A19: 支出済額
AD21: 内示額 | AI21: 申請額
AD22: =IFERROR(VLOOKUP(H7,内示額!A:C,3,FALSE),"") | AG22: 千円 | AI22: =MIN(AD22,ROUNDDOWN((H29+H38)/1000,0)) -> 0 | AL22: 千円
A23: 【（１）介護サービス等を円滑に継続するための対応】
A24: 科目 | H24: 支出済額（円） （税抜き） | M24: 内訳（用途・品目・数量等）
A25: (ア)燃料費、有料道路通行料等の移動に伴い必要となる経費
A26: (イ)ネッククーラー（ヒーター）等の猛暑・雪害対策用品の購入等経費
A27: (ウ)燃料費等の入居者・利用者の生活環境改善、職員の負担軽減・勤務環境改善に必要となる経費
A28: (エ)業務用スポットクーラー（ヒーター）等の居室や浴室等における温度管理、湿度管理に必要な設備・物品等の購入等経費
A29: 合計 | H29: =SUM(H25:L28) -> 0
A31: 【（２）災害備蓄等への対応】
A32: 科目 | H32: 支出済額（円） （税抜き） | M32: 内訳（用途・品目・数量等）
A33: (ア)飲料水、食料品等の備蓄物資の購入等経費
A34: (イ)ポータブル発電機、ポータブル電源・蓄電池等の購入等経費
A35: (ウ)衛生用品、医療用品等の購入等経費
A36: (エ)簡易浄水器、冷房機、暖房機、簡易トイレ、清潔保持のための用具等の購入等経費
A37: (オ)その他災害への備えとして必要と認められる経費
A38: 合計 | H38: =SUM(H33:L37) -> 0
A41: （注）申請額は、内示額と支出済額を比較していずれか低い方の額が入力される。

Sheet 個票20
A1: （様式第３号）事業所・施設別個票
A3: 介護事業所等に対するサービス継続支援事業に関する交付申請書兼実績報告書 （事業所・施設単位）
A5: 施設概要
A7: 整理番号 | O7: 事業所名称
A8: 所在地 | D8: 郵便番号 | H8: 都道府県名 | O8: 住所
H9: 広島県
A10: 提供サービス | H10: =IFERROR(VLOOKUP(H7,内示額!A:B,2,FALSE),"") | T10: 連絡先 | W10: 電話番号 | AG10: 担当部署名
A13: 報告にあたっての確認事項
A15: 領収書、レシート等の根拠資料は事業所等において適切に保管している。
A16: 支出済の費用について、他の予算制度に基づく、負担又は補助と重複は生じていない。
A17: 「支出済額」の欄には、対象経費から消費税相当額を除いた実支出額を記載している。
A19: 支出済額
AD21: 内示額 | AI21: 申請額
AD22: =IFERROR(VLOOKUP(H7,内示額!A:C,3,FALSE),"") | AG22: 千円 | AI22: =MIN(AD22,ROUNDDOWN((H29+H38)/1000,0)) -> 0 | AL22: 千円
A23: 【（１）介護サービス等を円滑に継続するための対応】
A24: 科目 | H24: 支出済額（円） （税抜き） | M24: 内訳（用途・品目・数量等）
A25: (ア)燃料費、有料道路通行料等の移動に伴い必要となる経費
A26: (イ)ネッククーラー（ヒーター）等の猛暑・雪害対策用品の購入等経費
A27: (ウ)燃料費等の入居者・利用者の生活環境改善、職員の負担軽減・勤務環境改善に必要となる経費
A28: (エ)業務用スポットクーラー（ヒーター）等の居室や浴室等における温度管理、湿度管理に必要な設備・物品等の購入等経費
A29: 合計 | H29: =SUM(H25:L28) -> 0
A31: 【（２）災害備蓄等への対応】
A32: 科目 | H32: 支出済額（円） （税抜き） | M32: 内訳（用途・品目・数量等）
A33: (ア)飲料水、食料品等の備蓄物資の購入等経費
A34: (イ)ポータブル発電機、ポータブル電源・蓄電池等の購入等経費
A35: (ウ)衛生用品、医療用品等の購入等経費
A36: (エ)簡易浄水器、冷房機、暖房機、簡易トイレ、清潔保持のための用具等の購入等経費
A37: (オ)その他災害への備えとして必要と認められる経費
A38: 合計 | H38: =SUM(H33:L37) -> 0
A41: （注）申請額は、内示額と支出済額を比較していずれか低い方の額が入力される。

Sheet 個票21
A1: （様式第３号）事業所・施設別個票
A3: 介護事業所等に対するサービス継続支援事業に関する交付申請書兼実績報告書 （事業所・施設単位）
A5: 施設概要
A7: 整理番号 | O7: 事業所名称
A8: 所在地 | D8: 郵便番号 | H8: 都道府県名 | O8: 住所
H9: 広島県
A10: 提供サービス | H10: =IFERROR(VLOOKUP(H7,内示額!A:B,2,FALSE),"") | T10: 連絡先 | W10: 電話番号 | AG10: 担当部署名
A13: 報告にあたっての確認事項
A15: 領収書、レシート等の根拠資料は事業所等において適切に保管している。
A16: 支出済の費用について、他の予算制度に基づく、負担又は補助と重複は生じていない。
A17: 「支出済額」の欄には、対象経費から消費税相当額を除いた実支出額を記載している。
A19: 支出済額
AD21: 内示額 | AI21: 申請額
AD22: =IFERROR(VLOOKUP(H7,内示額!A:C,3,FALSE),"") | AG22: 千円 | AI22: =MIN(AD22,ROUNDDOWN((H29+H38)/1000,0)) -> 0 | AL22: 千円
A23: 【（１）介護サービス等を円滑に継続するための対応】
A24: 科目 | H24: 支出済額（円） （税抜き） | M24: 内訳（用途・品目・数量等）
A25: (ア)燃料費、有料道路通行料等の移動に伴い必要となる経費
A26: (イ)ネッククーラー（ヒーター）等の猛暑・雪害対策用品の購入等経費
A27: (ウ)燃料費等の入居者・利用者の生活環境改善、職員の負担軽減・勤務環境改善に必要となる経費
A28: (エ)業務用スポットクーラー（ヒーター）等の居室や浴室等における温度管理、湿度管理に必要な設備・物品等の購入等経費
A29: 合計 | H29: =SUM(H25:L28) -> 0
A31: 【（２）災害備蓄等への対応】
A32: 科目 | H32: 支出済額（円） （税抜き） | M32: 内訳（用途・品目・数量等）
A33: (ア)飲料水、食料品等の備蓄物資の購入等経費
A34: (イ)ポータブル発電機、ポータブル電源・蓄電池等の購入等経費
A35: (ウ)衛生用品、医療用品等の購入等経費
A36: (エ)簡易浄水器、冷房機、暖房機、簡易トイレ、清潔保持のための用具等の購入等経費
A37: (オ)その他災害への備えとして必要と認められる経費
A38: 合計 | H38: =SUM(H33:L37) -> 0
A41: （注）申請額は、内示額と支出済額を比較していずれか低い方の額が入力される。

Sheet 個票22
A1: （様式第３号）事業所・施設別個票
A3: 介護事業所等に対するサービス継続支援事業に関する交付申請書兼実績報告書 （事業所・施設単位）
A5: 施設概要
A7: 整理番号 | O7: 事業所名称
A8: 所在地 | D8: 郵便番号 | H8: 都道府県名 | O8: 住所
H9: 広島県
A10: 提供サービス | H10: =IFERROR(VLOOKUP(H7,内示額!A:B,2,FALSE),"") | T10: 連絡先 | W10: 電話番号 | AG10: 担当部署名
A13: 報告にあたっての確認事項
A15: 領収書、レシート等の根拠資料は事業所等において適切に保管している。
A16: 支出済の費用について、他の予算制度に基づく、負担又は補助と重複は生じていない。
A17: 「支出済額」の欄には、対象経費から消費税相当額を除いた実支出額を記載している。
A19: 支出済額
AD21: 内示額 | AI21: 申請額
AD22: =IFERROR(VLOOKUP(H7,内示額!A:C,3,FALSE),"") | AG22: 千円 | AI22: =MIN(AD22,ROUNDDOWN((H29+H38)/1000,0)) -> 0 | AL22: 千円
A23: 【（１）介護サービス等を円滑に継続するための対応】
A24: 科目 | H24: 支出済額（円） （税抜き） | M24: 内訳（用途・品目・数量等）
A25: (ア)燃料費、有料道路通行料等の移動に伴い必要となる経費
A26: (イ)ネッククーラー（ヒーター）等の猛暑・雪害対策用品の購入等経費
A27: (ウ)燃料費等の入居者・利用者の生活環境改善、職員の負担軽減・勤務環境改善に必要となる経費
A28: (エ)業務用スポットクーラー（ヒーター）等の居室や浴室等における温度管理、湿度管理に必要な設備・物品等の購入等経費
A29: 合計 | H29: =SUM(H25:L28) -> 0
A31: 【（２）災害備蓄等への対応】
A32: 科目 | H32: 支出済額（円） （税抜き） | M32: 内訳（用途・品目・数量等）
A33: (ア)飲料水、食料品等の備蓄物資の購入等経費
A34: (イ)ポータブル発電機、ポータブル電源・蓄電池等の購入等経費
A35: (ウ)衛生用品、医療用品等の購入等経費
A36: (エ)簡易浄水器、冷房機、暖房機、簡易トイレ、清潔保持のための用具等の購入等経費
A37: (オ)その他災害への備えとして必要と認められる経費
A38: 合計 | H38: =SUM(H33:L37) -> 0
A41: （注）申請額は、内示額と支出済額を比較していずれか低い方の額が入力される。

Sheet 個票23
A1: （様式第３号）事業所・施設別個票
A3: 介護事業所等に対するサービス継続支援事業に関する交付申請書兼実績報告書 （事業所・施設単位）
A5: 施設概要
A7: 整理番号 | O7: 事業所名称
A8: 所在地 | D8: 郵便番号 | H8: 都道府県名 | O8: 住所
H9: 広島県
A10: 提供サービス | H10: =IFERROR(VLOOKUP(H7,内示額!A:B,2,FALSE),"") | T10: 連絡先 | W10: 電話番号 | AG10: 担当部署名
A13: 報告にあたっての確認事項
A15: 領収書、レシート等の根拠資料は事業所等において適切に保管している。
A16: 支出済の費用について、他の予算制度に基づく、負担又は補助と重複は生じていない。
A17: 「支出済額」の欄には、対象経費から消費税相当額を除いた実支出額を記載している。
A19: 支出済額
AD21: 内示額 | AI21: 申請額
AD22: =IFERROR(VLOOKUP(H7,内示額!A:C,3,FALSE),"") | AG22: 千円 | AI22: =MIN(AD22,ROUNDDOWN((H29+H38)/1000,0)) -> 0 | AL22: 千円
A23: 【（１）介護サービス等を円滑に継続するための対応】
A24: 科目 | H24: 支出済額（円） （税抜き） | M24: 内訳（用途・品目・数量等）
A25: (ア)燃料費、有料道路通行料等の移動に伴い必要となる経費
A26: (イ)ネッククーラー（ヒーター）等の猛暑・雪害対策用品の購入等経費
A27: (ウ)燃料費等の入居者・利用者の生活環境改善、職員の負担軽減・勤務環境改善に必要となる経費
A28: (エ)業務用スポットクーラー（ヒーター）等の居室や浴室等における温度管理、湿度管理に必要な設備・物品等の購入等経費
A29: 合計 | H29: =SUM(H25:L28) -> 0
A31: 【（２）災害備蓄等への対応】
A32: 科目 | H32: 支出済額（円） （税抜き） | M32: 内訳（用途・品目・数量等）
A33: (ア)飲料水、食料品等の備蓄物資の購入等経費
A34: (イ)ポータブル発電機、ポータブル電源・蓄電池等の購入等経費
A35: (ウ)衛生用品、医療用品等の購入等経費
A36: (エ)簡易浄水器、冷房機、暖房機、簡易トイレ、清潔保持のための用具等の購入等経費
A37: (オ)その他災害への備えとして必要と認められる経費
A38: 合計 | H38: =SUM(H33:L37) -> 0
A41: （注）申請額は、内示額と支出済額を比較していずれか低い方の額が入力される。

Sheet 個票24
A1: （様式第３号）事業所・施設別個票
A3: 介護事業所等に対するサービス継続支援事業に関する交付申請書兼実績報告書 （事業所・施設単位）
A5: 施設概要
A7: 整理番号 | O7: 事業所名称
A8: 所在地 | D8: 郵便番号 | H8: 都道府県名 | O8: 住所
H9: 広島県
A10: 提供サービス | H10: =IFERROR(VLOOKUP(H7,内示額!A:B,2,FALSE),"") | T10: 連絡先 | W10: 電話番号 | AG10: 担当部署名
A13: 報告にあたっての確認事項
A15: 領収書、レシート等の根拠資料は事業所等において適切に保管している。
A16: 支出済の費用について、他の予算制度に基づく、負担又は補助と重複は生じていない。
A17: 「支出済額」の欄には、対象経費から消費税相当額を除いた実支出額を記載している。
A19: 支出済額
AD21: 内示額 | AI21: 申請額
AD22: =IFERROR(VLOOKUP(H7,内示額!A:C,3,FALSE),"") | AG22: 千円 | AI22: =MIN(AD22,ROUNDDOWN((H29+H38)/1000,0)) -> 0 | AL22: 千円
A23: 【（１）介護サービス等を円滑に継続するための対応】
A24: 科目 | H24: 支出済額（円） （税抜き） | M24: 内訳（用途・品目・数量等）
A25: (ア)燃料費、有料道路通行料等の移動に伴い必要となる経費
A26: (イ)ネッククーラー（ヒーター）等の猛暑・雪害対策用品の購入等経費
A27: (ウ)燃料費等の入居者・利用者の生活環境改善、職員の負担軽減・勤務環境改善に必要となる経費
A28: (エ)業務用スポットクーラー（ヒーター）等の居室や浴室等における温度管理、湿度管理に必要な設備・物品等の購入等経費
A29: 合計 | H29: =SUM(H25:L28) -> 0
A31: 【（２）災害備蓄等への対応】
A32: 科目 | H32: 支出済額（円） （税抜き） | M32: 内訳（用途・品目・数量等）
A33: (ア)飲料水、食料品等の備蓄物資の購入等経費
A34: (イ)ポータブル発電機、ポータブル電源・蓄電池等の購入等経費
A35: (ウ)衛生用品、医療用品等の購入等経費
A36: (エ)簡易浄水器、冷房機、暖房機、簡易トイレ、清潔保持のための用具等の購入等経費
A37: (オ)その他災害への備えとして必要と認められる経費
A38: 合計 | H38: =SUM(H33:L37) -> 0
A41: （注）申請額は、内示額と支出済額を比較していずれか低い方の額が入力される。

Sheet 個票25
A1: （様式第３号）事業所・施設別個票
A3: 介護事業所等に対するサービス継続支援事業に関する交付申請書兼実績報告書 （事業所・施設単位）
A5: 施設概要
A7: 整理番号 | O7: 事業所名称
A8: 所在地 | D8: 郵便番号 | H8: 都道府県名 | O8: 住所
H9: 広島県
A10: 提供サービス | H10: =IFERROR(VLOOKUP(H7,内示額!A:B,2,FALSE),"") | T10: 連絡先 | W10: 電話番号 | AG10: 担当部署名
A13: 報告にあたっての確認事項
A15: 領収書、レシート等の根拠資料は事業所等において適切に保管している。
A16: 支出済の費用について、他の予算制度に基づく、負担又は補助と重複は生じていない。
A17: 「支出済額」の欄には、対象経費から消費税相当額を除いた実支出額を記載している。
A19: 支出済額
AD21: 内示額 | AI21: 申請額
AD22: =IFERROR(VLOOKUP(H7,内示額!A:C,3,FALSE),"") | AG22: 千円 | AI22: =MIN(AD22,ROUNDDOWN((H29+H38)/1000,0)) -> 0 | AL22: 千円
A23: 【（１）介護サービス等を円滑に継続するための対応】
A24: 科目 | H24: 支出済額（円） （税抜き） | M24: 内訳（用途・品目・数量等）
A25: (ア)燃料費、有料道路通行料等の移動に伴い必要となる経費
A26: (イ)ネッククーラー（ヒーター）等の猛暑・雪害対策用品の購入等経費
A27: (ウ)燃料費等の入居者・利用者の生活環境改善、職員の負担軽減・勤務環境改善に必要となる経費
A28: (エ)業務用スポットクーラー（ヒーター）等の居室や浴室等における温度管理、湿度管理に必要な設備・物品等の購入等経費
A29: 合計 | H29: =SUM(H25:L28) -> 0
A31: 【（２）災害備蓄等への対応】
A32: 科目 | H32: 支出済額（円） （税抜き） | M32: 内訳（用途・品目・数量等）
A33: (ア)飲料水、食料品等の備蓄物資の購入等経費
A34: (イ)ポータブル発電機、ポータブル電源・蓄電池等の購入等経費
A35: (ウ)衛生用品、医療用品等の購入等経費
A36: (エ)簡易浄水器、冷房機、暖房機、簡易トイレ、清潔保持のための用具等の購入等経費
A37: (オ)その他災害への備えとして必要と認められる経費
A38: 合計 | H38: =SUM(H33:L37) -> 0
A41: （注）申請額は、内示額と支出済額を比較していずれか低い方の額が入力される。

Sheet 個票26
A1: （様式第３号）事業所・施設別個票
A3: 介護事業所等に対するサービス継続支援事業に関する交付申請書兼実績報告書 （事業所・施設単位）
A5: 施設概要
A7: 整理番号 | O7: 事業所名称
A8: 所在地 | D8: 郵便番号 | H8: 都道府県名 | O8: 住所
H9: 広島県
A10: 提供サービス | H10: =IFERROR(VLOOKUP(H7,内示額!A:B,2,FALSE),"") | T10: 連絡先 | W10: 電話番号 | AG10: 担当部署名
A13: 報告にあたっての確認事項
A15: 領収書、レシート等の根拠資料は事業所等において適切に保管している。
A16: 支出済の費用について、他の予算制度に基づく、負担又は補助と重複は生じていない。
A17: 「支出済額」の欄には、対象経費から消費税相当額を除いた実支出額を記載している。
A19: 支出済額
AD21: 内示額 | AI21: 申請額
AD22: =IFERROR(VLOOKUP(H7,内示額!A:C,3,FALSE),"") | AG22: 千円 | AI22: =MIN(AD22,ROUNDDOWN((H29+H38)/1000,0)) -> 0 | AL22: 千円
A23: 【（１）介護サービス等を円滑に継続するための対応】
A24: 科目 | H24: 支出済額（円） （税抜き） | M24: 内訳（用途・品目・数量等）
A25: (ア)燃料費、有料道路通行料等の移動に伴い必要となる経費
A26: (イ)ネッククーラー（ヒーター）等の猛暑・雪害対策用品の購入等経費
A27: (ウ)燃料費等の入居者・利用者の生活環境改善、職員の負担軽減・勤務環境改善に必要となる経費
A28: (エ)業務用スポットクーラー（ヒーター）等の居室や浴室等における温度管理、湿度管理に必要な設備・物品等の購入等経費
A29: 合計 | H29: =SUM(H25:L28) -> 0
A31: 【（２）災害備蓄等への対応】
A32: 科目 | H32: 支出済額（円） （税抜き） | M32: 内訳（用途・品目・数量等）
A33: (ア)飲料水、食料品等の備蓄物資の購入等経費
A34: (イ)ポータブル発電機、ポータブル電源・蓄電池等の購入等経費
A35: (ウ)衛生用品、医療用品等の購入等経費
A36: (エ)簡易浄水器、冷房機、暖房機、簡易トイレ、清潔保持のための用具等の購入等経費
A37: (オ)その他災害への備えとして必要と認められる経費
A38: 合計 | H38: =SUM(H33:L37) -> 0
A41: （注）申請額は、内示額と支出済額を比較していずれか低い方の額が入力される。

Sheet 個票27
A1: （様式第３号）事業所・施設別個票
A3: 介護事業所等に対するサービス継続支援事業に関する交付申請書兼実績報告書 （事業所・施設単位）
A5: 施設概要
A7: 整理番号 | O7: 事業所名称
A8: 所在地 | D8: 郵便番号 | H8: 都道府県名 | O8: 住所
H9: 広島県
A10: 提供サービス | H10: =IFERROR(VLOOKUP(H7,内示額!A:B,2,FALSE),"") | T10: 連絡先 | W10: 電話番号 | AG10: 担当部署名
A13: 報告にあたっての確認事項
A15: 領収書、レシート等の根拠資料は事業所等において適切に保管している。
A16: 支出済の費用について、他の予算制度に基づく、負担又は補助と重複は生じていない。
A17: 「支出済額」の欄には、対象経費から消費税相当額を除いた実支出額を記載している。
A19: 支出済額
AD21: 内示額 | AI21: 申請額
AD22: =IFERROR(VLOOKUP(H7,内示額!A:C,3,FALSE),"") | AG22: 千円 | AI22: =MIN(AD22,ROUNDDOWN((H29+H38)/1000,0)) -> 0 | AL22: 千円
A23: 【（１）介護サービス等を円滑に継続するための対応】
A24: 科目 | H24: 支出済額（円） （税抜き） | M24: 内訳（用途・品目・数量等）
A25: (ア)燃料費、有料道路通行料等の移動に伴い必要となる経費
A26: (イ)ネッククーラー（ヒーター）等の猛暑・雪害対策用品の購入等経費
A27: (ウ)燃料費等の入居者・利用者の生活環境改善、職員の負担軽減・勤務環境改善に必要となる経費
A28: (エ)業務用スポットクーラー（ヒーター）等の居室や浴室等における温度管理、湿度管理に必要な設備・物品等の購入等経費
A29: 合計 | H29: =SUM(H25:L28) -> 0
A31: 【（２）災害備蓄等への対応】
A32: 科目 | H32: 支出済額（円） （税抜き） | M32: 内訳（用途・品目・数量等）
A33: (ア)飲料水、食料品等の備蓄物資の購入等経費
A34: (イ)ポータブル発電機、ポータブル電源・蓄電池等の購入等経費
A35: (ウ)衛生用品、医療用品等の購入等経費
A36: (エ)簡易浄水器、冷房機、暖房機、簡易トイレ、清潔保持のための用具等の購入等経費
A37: (オ)その他災害への備えとして必要と認められる経費
A38: 合計 | H38: =SUM(H33:L37) -> 0
A41: （注）申請額は、内示額と支出済額を比較していずれか低い方の額が入力される。

Sheet 個票28
A1: （様式第３号）事業所・施設別個票
A3: 介護事業所等に対するサービス継続支援事業に関する交付申請書兼実績報告書 （事業所・施設単位）
A5: 施設概要
A7: 整理番号 | O7: 事業所名称
A8: 所在地 | D8: 郵便番号 | H8: 都道府県名 | O8: 住所
H9: 広島県
A10: 提供サービス | H10: =IFERROR(VLOOKUP(H7,内示額!A:B,2,FALSE),"") | T10: 連絡先 | W10: 電話番号 | AG10: 担当部署名
A13: 報告にあたっての確認事項
A15: 領収書、レシート等の根拠資料は事業所等において適切に保管している。
A16: 支出済の費用について、他の予算制度に基づく、負担又は補助と重複は生じていない。
A17: 「支出済額」の欄には、対象経費から消費税相当額を除いた実支出額を記載している。
A19: 支出済額
AD21: 内示額 | AI21: 申請額
AD22: =IFERROR(VLOOKUP(H7,内示額!A:C,3,FALSE),"") | AG22: 千円 | AI22: =MIN(AD22,ROUNDDOWN((H29+H38)/1000,0)) -> 0 | AL22: 千円
A23: 【（１）介護サービス等を円滑に継続するための対応】
A24: 科目 | H24: 支出済額（円） （税抜き） | M24: 内訳（用途・品目・数量等）
A25: (ア)燃料費、有料道路通行料等の移動に伴い必要となる経費
A26: (イ)ネッククーラー（ヒーター）等の猛暑・雪害対策用品の購入等経費
A27: (ウ)燃料費等の入居者・利用者の生活環境改善、職員の負担軽減・勤務環境改善に必要となる経費
A28: (エ)業務用スポットクーラー（ヒーター）等の居室や浴室等における温度管理、湿度管理に必要な設備・物品等の購入等経費
A29: 合計 | H29: =SUM(H25:L28) -> 0
A31: 【（２）災害備蓄等への対応】
A32: 科目 | H32: 支出済額（円） （税抜き） | M32: 内訳（用途・品目・数量等）
A33: (ア)飲料水、食料品等の備蓄物資の購入等経費
A34: (イ)ポータブル発電機、ポータブル電源・蓄電池等の購入等経費
A35: (ウ)衛生用品、医療用品等の購入等経費
A36: (エ)簡易浄水器、冷房機、暖房機、簡易トイレ、清潔保持のための用具等の購入等経費
A37: (オ)その他災害への備えとして必要と認められる経費
A38: 合計 | H38: =SUM(H33:L37) -> 0
A41: （注）申請額は、内示額と支出済額を比較していずれか低い方の額が入力される。

Sheet 個票29
A1: （様式第３号）事業所・施設別個票
A3: 介護事業所等に対するサービス継続支援事業に関する交付申請書兼実績報告書 （事業所・施設単位）
A5: 施設概要
A7: 整理番号 | O7: 事業所名称
A8: 所在地 | D8: 郵便番号 | H8: 都道府県名 | O8: 住所
H9: 広島県
A10: 提供サービス | H10: =IFERROR(VLOOKUP(H7,内示額!A:B,2,FALSE),"") | T10: 連絡先 | W10: 電話番号 | AG10: 担当部署名
A13: 報告にあたっての確認事項
A15: 領収書、レシート等の根拠資料は事業所等において適切に保管している。
A16: 支出済の費用について、他の予算制度に基づく、負担又は補助と重複は生じていない。
A17: 「支出済額」の欄には、対象経費から消費税相当額を除いた実支出額を記載している。
A19: 支出済額
AD21: 内示額 | AI21: 申請額
AD22: =IFERROR(VLOOKUP(H7,内示額!A:C,3,FALSE),"") | AG22: 千円 | AI22: =MIN(AD22,ROUNDDOWN((H29+H38)/1000,0)) -> 0 | AL22: 千円
A23: 【（１）介護サービス等を円滑に継続するための対応】
A24: 科目 | H24: 支出済額（円） （税抜き） | M24: 内訳（用途・品目・数量等）
A25: (ア)燃料費、有料道路通行料等の移動に伴い必要となる経費
A26: (イ)ネッククーラー（ヒーター）等の猛暑・雪害対策用品の購入等経費
A27: (ウ)燃料費等の入居者・利用者の生活環境改善、職員の負担軽減・勤務環境改善に必要となる経費
A28: (エ)業務用スポットクーラー（ヒーター）等の居室や浴室等における温度管理、湿度管理に必要な設備・物品等の購入等経費
A29: 合計 | H29: =SUM(H25:L28) -> 0
A31: 【（２）災害備蓄等への対応】
A32: 科目 | H32: 支出済額（円） （税抜き） | M32: 内訳（用途・品目・数量等）
A33: (ア)飲料水、食料品等の備蓄物資の購入等経費
A34: (イ)ポータブル発電機、ポータブル電源・蓄電池等の購入等経費
A35: (ウ)衛生用品、医療用品等の購入等経費
A36: (エ)簡易浄水器、冷房機、暖房機、簡易トイレ、清潔保持のための用具等の購入等経費
A37: (オ)その他災害への備えとして必要と認められる経費
A38: 合計 | H38: =SUM(H33:L37) -> 0
A41: （注）申請額は、内示額と支出済額を比較していずれか低い方の額が入力される。

Sheet 個票30
A1: （様式第３号）事業所・施設別個票
A3: 介護事業所等に対するサービス継続支援事業に関する交付申請書兼実績報告書 （事業所・施設単位）
A5: 施設概要
A7: 整理番号 | O7: 事業所名称
A8: 所在地 | D8: 郵便番号 | H8: 都道府県名 | O8: 住所
H9: 広島県
A10: 提供サービス | H10: =IFERROR(VLOOKUP(H7,内示額!A:B,2,FALSE),"") | T10: 連絡先 | W10: 電話番号 | AG10: 担当部署名
A13: 報告にあたっての確認事項
A15: 領収書、レシート等の根拠資料は事業所等において適切に保管している。
A16: 支出済の費用について、他の予算制度に基づく、負担又は補助と重複は生じていない。
A17: 「支出済額」の欄には、対象経費から消費税相当額を除いた実支出額を記載している。
A19: 支出済額
AD21: 内示額 | AI21: 申請額
AD22: =IFERROR(VLOOKUP(H7,内示額!A:C,3,FALSE),"") | AG22: 千円 | AI22: =MIN(AD22,ROUNDDOWN((H29+H38)/1000,0)) -> 0 | AL22: 千円
A23: 【（１）介護サービス等を円滑に継続するための対応】
A24: 科目 | H24: 支出済額（円） （税抜き） | M24: 内訳（用途・品目・数量等）
A25: (ア)燃料費、有料道路通行料等の移動に伴い必要となる経費
A26: (イ)ネッククーラー（ヒーター）等の猛暑・雪害対策用品の購入等経費
A27: (ウ)燃料費等の入居者・利用者の生活環境改善、職員の負担軽減・勤務環境改善に必要となる経費
A28: (エ)業務用スポットクーラー（ヒーター）等の居室や浴室等における温度管理、湿度管理に必要な設備・物品等の購入等経費
A29: 合計 | H29: =SUM(H25:L28) -> 0
A31: 【（２）災害備蓄等への対応】
A32: 科目 | H32: 支出済額（円） （税抜き） | M32: 内訳（用途・品目・数量等）
A33: (ア)飲料水、食料品等の備蓄物資の購入等経費
A34: (イ)ポータブル発電機、ポータブル電源・蓄電池等の購入等経費
A35: (ウ)衛生用品、医療用品等の購入等経費
A36: (エ)簡易浄水器、冷房機、暖房機、簡易トイレ、清潔保持のための用具等の購入等経費
A37: (オ)その他災害への備えとして必要と認められる経費
A38: 合計 | H38: =SUM(H33:L37) -> 0
A41: （注）申請額は、内示額と支出済額を比較していずれか低い方の額が入力される。

Sheet 個票31
A1: （様式第３号）事業所・施設別個票
A3: 介護事業所等に対するサービス継続支援事業に関する交付申請書兼実績報告書 （事業所・施設単位）
A5: 施設概要
A7: 整理番号 | O7: 事業所名称
A8: 所在地 | D8: 郵便番号 | H8: 都道府県名 | O8: 住所
H9: 広島県
A10: 提供サービス | H10: =IFERROR(VLOOKUP(H7,内示額!A:B,2,FALSE),"") | T10: 連絡先 | W10: 電話番号 | AG10: 担当部署名
A13: 報告にあたっての確認事項
A15: 領収書、レシート等の根拠資料は事業所等において適切に保管している。
A16: 支出済の費用について、他の予算制度に基づく、負担又は補助と重複は生じていない。
A17: 「支出済額」の欄には、対象経費から消費税相当額を除いた実支出額を記載している。
A19: 支出済額
AD21: 内示額 | AI21: 申請額
AD22: =IFERROR(VLOOKUP(H7,内示額!A:C,3,FALSE),"") | AG22: 千円 | AI22: =MIN(AD22,ROUNDDOWN((H29+H38)/1000,0)) -> 0 | AL22: 千円
A23: 【（１）介護サービス等を円滑に継続するための対応】
A24: 科目 | H24: 支出済額（円） （税抜き） | M24: 内訳（用途・品目・数量等）
A25: (ア)燃料費、有料道路通行料等の移動に伴い必要となる経費
A26: (イ)ネッククーラー（ヒーター）等の猛暑・雪害対策用品の購入等経費
A27: (ウ)燃料費等の入居者・利用者の生活環境改善、職員の負担軽減・勤務環境改善に必要となる経費
A28: (エ)業務用スポットクーラー（ヒーター）等の居室や浴室等における温度管理、湿度管理に必要な設備・物品等の購入等経費
A29: 合計 | H29: =SUM(H25:L28) -> 0
A31: 【（２）災害備蓄等への対応】
A32: 科目 | H32: 支出済額（円） （税抜き） | M32: 内訳（用途・品目・数量等）
A33: (ア)飲料水、食料品等の備蓄物資の購入等経費
A34: (イ)ポータブル発電機、ポータブル電源・蓄電池等の購入等経費
A35: (ウ)衛生用品、医療用品等の購入等経費
A36: (エ)簡易浄水器、冷房機、暖房機、簡易トイレ、清潔保持のための用具等の購入等経費
A37: (オ)その他災害への備えとして必要と認められる経費
A38: 合計 | H38: =SUM(H33:L37) -> 0
A41: （注）申請額は、内示額と支出済額を比較していずれか低い方の額が入力される。

Sheet 個票32
A1: （様式第３号）事業所・施設別個票
A3: 介護事業所等に対するサービス継続支援事業に関する交付申請書兼実績報告書 （事業所・施設単位）
A5: 施設概要
A7: 整理番号 | O7: 事業所名称
A8: 所在地 | D8: 郵便番号 | H8: 都道府県名 | O8: 住所
H9: 広島県
A10: 提供サービス | H10: =IFERROR(VLOOKUP(H7,内示額!A:B,2,FALSE),"") | T10: 連絡先 | W10: 電話番号 | AG10: 担当部署名
A13: 報告にあたっての確認事項
A15: 領収書、レシート等の根拠資料は事業所等において適切に保管している。
A16: 支出済の費用について、他の予算制度に基づく、負担又は補助と重複は生じていない。
A17: 「支出済額」の欄には、対象経費から消費税相当額を除いた実支出額を記載している。
A19: 支出済額
AD21: 内示額 | AI21: 申請額
AD22: =IFERROR(VLOOKUP(H7,内示額!A:C,3,FALSE),"") | AG22: 千円 | AI22: =MIN(AD22,ROUNDDOWN((H29+H38)/1000,0)) -> 0 | AL22: 千円
A23: 【（１）介護サービス等を円滑に継続するための対応】
A24: 科目 | H24: 支出済額（円） （税抜き） | M24: 内訳（用途・品目・数量等）
A25: (ア)燃料費、有料道路通行料等の移動に伴い必要となる経費
A26: (イ)ネッククーラー（ヒーター）等の猛暑・雪害対策用品の購入等経費
A27: (ウ)燃料費等の入居者・利用者の生活環境改善、職員の負担軽減・勤務環境改善に必要となる経費
A28: (エ)業務用スポットクーラー（ヒーター）等の居室や浴室等における温度管理、湿度管理に必要な設備・物品等の購入等経費
A29: 合計 | H29: =SUM(H25:L28) -> 0
A31: 【（２）災害備蓄等への対応】
A32: 科目 | H32: 支出済額（円） （税抜き） | M32: 内訳（用途・品目・数量等）
A33: (ア)飲料水、食料品等の備蓄物資の購入等経費
A34: (イ)ポータブル発電機、ポータブル電源・蓄電池等の購入等経費
A35: (ウ)衛生用品、医療用品等の購入等経費
A36: (エ)簡易浄水器、冷房機、暖房機、簡易トイレ、清潔保持のための用具等の購入等経費
A37: (オ)その他災害への備えとして必要と認められる経費
A38: 合計 | H38: =SUM(H33:L37) -> 0
A41: （注）申請額は、内示額と支出済額を比較していずれか低い方の額が入力される。

Sheet 個票33
A1: （様式第３号）事業所・施設別個票
A3: 介護事業所等に対するサービス継続支援事業に関する交付申請書兼実績報告書 （事業所・施設単位）
A5: 施設概要
A7: 整理番号 | O7: 事業所名称
A8: 所在地 | D8: 郵便番号 | H8: 都道府県名 | O8: 住所
H9: 広島県
A10: 提供サービス | H10: =IFERROR(VLOOKUP(H7,内示額!A:B,2,FALSE),"") | T10: 連絡先 | W10: 電話番号 | AG10: 担当部署名
A13: 報告にあたっての確認事項
A15: 領収書、レシート等の根拠資料は事業所等において適切に保管している。
A16: 支出済の費用について、他の予算制度に基づく、負担又は補助と重複は生じていない。
A17: 「支出済額」の欄には、対象経費から消費税相当額を除いた実支出額を記載している。
A19: 支出済額
AD21: 内示額 | AI21: 申請額
AD22: =IFERROR(VLOOKUP(H7,内示額!A:C,3,FALSE),"") | AG22: 千円 | AI22: =MIN(AD22,ROUNDDOWN((H29+H38)/1000,0)) -> 0 | AL22: 千円
A23: 【（１）介護サービス等を円滑に継続するための対応】
A24: 科目 | H24: 支出済額（円） （税抜き） | M24: 内訳（用途・品目・数量等）
A25: (ア)燃料費、有料道路通行料等の移動に伴い必要となる経費
A26: (イ)ネッククーラー（ヒーター）等の猛暑・雪害対策用品の購入等経費
A27: (ウ)燃料費等の入居者・利用者の生活環境改善、職員の負担軽減・勤務環境改善に必要となる経費
A28: (エ)業務用スポットクーラー（ヒーター）等の居室や浴室等における温度管理、湿度管理に必要な設備・物品等の購入等経費
A29: 合計 | H29: =SUM(H25:L28) -> 0
A31: 【（２）災害備蓄等への対応】
A32: 科目 | H32: 支出済額（円） （税抜き） | M32: 内訳（用途・品目・数量等）
A33: (ア)飲料水、食料品等の備蓄物資の購入等経費
A34: (イ)ポータブル発電機、ポータブル電源・蓄電池等の購入等経費
A35: (ウ)衛生用品、医療用品等の購入等経費
A36: (エ)簡易浄水器、冷房機、暖房機、簡易トイレ、清潔保持のための用具等の購入等経費
A37: (オ)その他災害への備えとして必要と認められる経費
A38: 合計 | H38: =SUM(H33:L37) -> 0
A41: （注）申請額は、内示額と支出済額を比較していずれか低い方の額が入力される。

Sheet 個票34
A1: （様式第３号）事業所・施設別個票
A3: 介護事業所等に対するサービス継続支援事業に関する交付申請書兼実績報告書 （事業所・施設単位）
A5: 施設概要
A7: 整理番号 | O7: 事業所名称
A8: 所在地 | D8: 郵便番号 | H8: 都道府県名 | O8: 住所
H9: 広島県
A10: 提供サービス | H10: =IFERROR(VLOOKUP(H7,内示額!A:B,2,FALSE),"") | T10: 連絡先 | W10: 電話番号 | AG10: 担当部署名
A13: 報告にあたっての確認事項
A15: 領収書、レシート等の根拠資料は事業所等において適切に保管している。
A16: 支出済の費用について、他の予算制度に基づく、負担又は補助と重複は生じていない。
A17: 「支出済額」の欄には、対象経費から消費税相当額を除いた実支出額を記載している。
A19: 支出済額
AD21: 内示額 | AI21: 申請額
AD22: =IFERROR(VLOOKUP(H7,内示額!A:C,3,FALSE),"") | AG22: 千円 | AI22: =MIN(AD22,ROUNDDOWN((H29+H38)/1000,0)) -> 0 | AL22: 千円
A23: 【（１）介護サービス等を円滑に継続するための対応】
A24: 科目 | H24: 支出済額（円） （税抜き） | M24: 内訳（用途・品目・数量等）
A25: (ア)燃料費、有料道路通行料等の移動に伴い必要となる経費
A26: (イ)ネッククーラー（ヒーター）等の猛暑・雪害対策用品の購入等経費
A27: (ウ)燃料費等の入居者・利用者の生活環境改善、職員の負担軽減・勤務環境改善に必要となる経費
A28: (エ)業務用スポットクーラー（ヒーター）等の居室や浴室等における温度管理、湿度管理に必要な設備・物品等の購入等経費
A29: 合計 | H29: =SUM(H25:L28) -> 0
A31: 【（２）災害備蓄等への対応】
A32: 科目 | H32: 支出済額（円） （税抜き） | M32: 内訳（用途・品目・数量等）
A33: (ア)飲料水、食料品等の備蓄物資の購入等経費
A34: (イ)ポータブル発電機、ポータブル電源・蓄電池等の購入等経費
A35: (ウ)衛生用品、医療用品等の購入等経費
A36: (エ)簡易浄水器、冷房機、暖房機、簡易トイレ、清潔保持のための用具等の購入等経費
A37: (オ)その他災害への備えとして必要と認められる経費
A38: 合計 | H38: =SUM(H33:L37) -> 0
A41: （注）申請額は、内示額と支出済額を比較していずれか低い方の額が入力される。

Sheet 個票35
A1: （様式第３号）事業所・施設別個票
A3: 介護事業所等に対するサービス継続支援事業に関する交付申請書兼実績報告書 （事業所・施設単位）
A5: 施設概要
A7: 整理番号 | O7: 事業所名称
A8: 所在地 | D8: 郵便番号 | H8: 都道府県名 | O8: 住所
H9: 広島県
A10: 提供サービス | H10: =IFERROR(VLOOKUP(H7,内示額!A:B,2,FALSE),"") | T10: 連絡先 | W10: 電話番号 | AG10: 担当部署名
A13: 報告にあたっての確認事項
A15: 領収書、レシート等の根拠資料は事業所等において適切に保管している。
A16: 支出済の費用について、他の予算制度に基づく、負担又は補助と重複は生じていない。
A17: 「支出済額」の欄には、対象経費から消費税相当額を除いた実支出額を記載している。
A19: 支出済額
AD21: 内示額 | AI21: 申請額
AD22: =IFERROR(VLOOKUP(H7,内示額!A:C,3,FALSE),"") | AG22: 千円 | AI22: =MIN(AD22,ROUNDDOWN((H29+H38)/1000,0)) -> 0 | AL22: 千円
A23: 【（１）介護サービス等を円滑に継続するための対応】
A24: 科目 | H24: 支出済額（円） （税抜き） | M24: 内訳（用途・品目・数量等）
A25: (ア)燃料費、有料道路通行料等の移動に伴い必要となる経費
A26: (イ)ネッククーラー（ヒーター）等の猛暑・雪害対策用品の購入等経費
A27: (ウ)燃料費等の入居者・利用者の生活環境改善、職員の負担軽減・勤務環境改善に必要となる経費
A28: (エ)業務用スポットクーラー（ヒーター）等の居室や浴室等における温度管理、湿度管理に必要な設備・物品等の購入等経費
A29: 合計 | H29: =SUM(H25:L28) -> 0
A31: 【（２）災害備蓄等への対応】
A32: 科目 | H32: 支出済額（円） （税抜き） | M32: 内訳（用途・品目・数量等）
A33: (ア)飲料水、食料品等の備蓄物資の購入等経費
A34: (イ)ポータブル発電機、ポータブル電源・蓄電池等の購入等経費
A35: (ウ)衛生用品、医療用品等の購入等経費
A36: (エ)簡易浄水器、冷房機、暖房機、簡易トイレ、清潔保持のための用具等の購入等経費
A37: (オ)その他災害への備えとして必要と認められる経費
A38: 合計 | H38: =SUM(H33:L37) -> 0
A41: （注）申請額は、内示額と支出済額を比較していずれか低い方の額が入力される。

Sheet 個票36
A1: （様式第３号）事業所・施設別個票
A3: 介護事業所等に対するサービス継続支援事業に関する交付申請書兼実績報告書 （事業所・施設単位）
A5: 施設概要
A7: 整理番号 | O7: 事業所名称
A8: 所在地 | D8: 郵便番号 | H8: 都道府県名 | O8: 住所
H9: 広島県
A10: 提供サービス | H10: =IFERROR(VLOOKUP(H7,内示額!A:B,2,FALSE),"") | T10: 連絡先 | W10: 電話番号 | AG10: 担当部署名
A13: 報告にあたっての確認事項
A15: 領収書、レシート等の根拠資料は事業所等において適切に保管している。
A16: 支出済の費用について、他の予算制度に基づく、負担又は補助と重複は生じていない。
A17: 「支出済額」の欄には、対象経費から消費税相当額を除いた実支出額を記載している。
A19: 支出済額
AD21: 内示額 | AI21: 申請額
AD22: =IFERROR(VLOOKUP(H7,内示額!A:C,3,FALSE),"") | AG22: 千円 | AI22: =MIN(AD22,ROUNDDOWN((H29+H38)/1000,0)) -> 0 | AL22: 千円
A23: 【（１）介護サービス等を円滑に継続するための対応】
A24: 科目 | H24: 支出済額（円） （税抜き） | M24: 内訳（用途・品目・数量等）
A25: (ア)燃料費、有料道路通行料等の移動に伴い必要となる経費
A26: (イ)ネッククーラー（ヒーター）等の猛暑・雪害対策用品の購入等経費
A27: (ウ)燃料費等の入居者・利用者の生活環境改善、職員の負担軽減・勤務環境改善に必要となる経費
A28: (エ)業務用スポットクーラー（ヒーター）等の居室や浴室等における温度管理、湿度管理に必要な設備・物品等の購入等経費
A29: 合計 | H29: =SUM(H25:L28) -> 0
A31: 【（２）災害備蓄等への対応】
A32: 科目 | H32: 支出済額（円） （税抜き） | M32: 内訳（用途・品目・数量等）
A33: (ア)飲料水、食料品等の備蓄物資の購入等経費
A34: (イ)ポータブル発電機、ポータブル電源・蓄電池等の購入等経費
A35: (ウ)衛生用品、医療用品等の購入等経費
A36: (エ)簡易浄水器、冷房機、暖房機、簡易トイレ、清潔保持のための用具等の購入等経費
A37: (オ)その他災害への備えとして必要と認められる経費
A38: 合計 | H38: =SUM(H33:L37) -> 0
A41: （注）申請額は、内示額と支出済額を比較していずれか低い方の額が入力される。

Sheet 個票37
A1: （様式第３号）事業所・施設別個票
A3: 介護事業所等に対するサービス継続支援事業に関する交付申請書兼実績報告書 （事業所・施設単位）
A5: 施設概要
A7: 整理番号 | O7: 事業所名称
A8: 所在地 | D8: 郵便番号 | H8: 都道府県名 | O8: 住所
H9: 広島県
A10: 提供サービス | H10: =IFERROR(VLOOKUP(H7,内示額!A:B,2,FALSE),"") | T10: 連絡先 | W10: 電話番号 | AG10: 担当部署名
A13: 報告にあたっての確認事項
A15: 領収書、レシート等の根拠資料は事業所等において適切に保管している。
